BEGIN:VCALENDAR
VERSION:2.0
PRODID:-//Agrupació del Bestiari Festiu i Popular de Catalunya - ECPv4.5.3//NONSGML v1.0//EN
CALSCALE:GREGORIAN
METHOD:PUBLISH
X-WR-CALNAME:Agrupació del Bestiari Festiu i Popular de Catalunya
X-ORIGINAL-URL:https://www.bestiari.cat
X-WR-CALDESC:Events for Agrupació del Bestiari Festiu i Popular de Catalunya
BEGIN:VEVENT
DTSTART;TZID=UTC+1:20181013T190000
DTEND;TZID=UTC+1:20181013T233000
DTSTAMP:20260419T214140
CREATED:20181003T085817Z
LAST-MODIFIED:20181003T085817Z
UID:4234-1539457200-1539473400@www.bestiari.cat
SUMMARY:Bestiolada 2018
DESCRIPTION:
URL:https://www.bestiari.cat/esdeveniment/bestiolada-2018/
LOCATION:Plaça Subirats\, Sant Pau D'Ordal (Subirats)\, Espanya
CATEGORIES:Activitats associats,Penedès-Garraf
ATTACH;FMTTYPE=image/jpeg:https://www.bestiari.cat/wp-content/uploads/2018/10/BESTIOLADA18.jpg
END:VEVENT
END:VCALENDAR