BEGIN:VCALENDAR
VERSION:2.0
PRODID:-//Agrupació del Bestiari Festiu i Popular de Catalunya - ECPv4.5.3//NONSGML v1.0//EN
CALSCALE:GREGORIAN
METHOD:PUBLISH
X-WR-CALNAME:Agrupació del Bestiari Festiu i Popular de Catalunya
X-ORIGINAL-URL:https://www.bestiari.cat
X-WR-CALDESC:Events for Agrupació del Bestiari Festiu i Popular de Catalunya
BEGIN:VEVENT
DTSTART;TZID=UTC+1:20220226T193000
DTEND;TZID=UTC+1:20220226T233000
DTSTAMP:20260420T074731
CREATED:20220214T124128Z
LAST-MODIFIED:20220214T124128Z
UID:17243-1645903800-1645918200@www.bestiari.cat
SUMMARY:Carnafoc 2022 a Barcelona
DESCRIPTION:El pròxim dissabte 26 de febrer\, al barri del Coll de Barcelona tindrà lloc la celebració del Carnafoc. A partir de dos quarts de vuit de la tarda es faran diferents correfocs\, cremades i tabalades\, amb la col·laboració d'altres colles de la ciutat.\nPrograma d'actes:\n\n \t19.30 h: Correfoc. Des del Passeig Mare de Déu del Coll (cantonada amb c/ Castellterçol) fins a la plaça de Salvador Allende\n \t21 h: "Cremada" de l'Església de la Mare de Déu del Coll\n \t21 h: Tabalada. Des de la plaça de Salvador Allende fins al Passeig Mare de Déu del Coll (cantonada amb c/ Castellterçol)\n \t22 h: Petada final. Carnaball al Parc de la Creueta del Coll a càrrec de la Comissió de Joves del Coll\n\nColles participants:\nDiabòlica de Gràcia\, La Vella de Gràcia\, els Malsons de la Vella\, l'Atzeries\, el Drac de Gràcia\, la Malèfica del Coll\, Escuats de la Malèfica i Gaudiamus del Coll.
URL:https://www.bestiari.cat/esdeveniment/carnafoc-2022-a-barcelona/
CATEGORIES:Activitats associats,Barcelona Ciutat
ATTACH;FMTTYPE=image/jpeg:https://www.bestiari.cat/wp-content/uploads/2022/02/carnafoc.jpg
END:VEVENT
END:VCALENDAR