BEGIN:VCALENDAR
VERSION:2.0
PRODID:-//Agrupació del Bestiari Festiu i Popular de Catalunya - ECPv4.5.3//NONSGML v1.0//EN
CALSCALE:GREGORIAN
METHOD:PUBLISH
X-WR-CALNAME:Agrupació del Bestiari Festiu i Popular de Catalunya
X-ORIGINAL-URL:https://www.bestiari.cat
X-WR-CALDESC:Events for Agrupació del Bestiari Festiu i Popular de Catalunya
BEGIN:VEVENT
DTSTART;VALUE=DATE:20181110
DTEND;VALUE=DATE:20181123
DTSTAMP:20260420T044219
CREATED:20181112T114709Z
LAST-MODIFIED:20181112T114709Z
UID:4425-1541808000-1543017599@www.bestiari.cat
SUMMARY:Cavallets… endavant! Els cavallets cotoners de Barcelona
DESCRIPTION:Els Cavallets Cotoners de Barcelona estan documentats a Barcelona des de l’any 1424.  Després de segles d’encapçalar la Processó de Corpus van desaparèixer a finals del s. XIX. Van reaparèixer l’any 1993 a partir del conjunt de vuit cavallets propietat de l’Esbart Català de Dansaires construïts el 1933 amb motiu dels 25 anys de la fundació de l’entitat.\n\nL’any 1993 s’afegeixen com a Cavallets Cotoners de Barcelona al conjunt del Bestiari Històric de Barcelona del que formen part amb l’Àliga\, el Drac\, la Mulassa\, la Víbria\, el Bou\, el Lleó i la Tarasca.\n\nAmb motiu d'aquesta celebració es podrà tornar a veure l'exposició Cavallets Endavant! \, fins el dia 23 de novembre\, a la Casa dels Entremesos de Barcelona\, plaça de les Beates 3\, seu dels Cavallets Cotonores i altres figures del Bestiari Històric.\n\nL'exposició consta de tres plafons amb la introducció sobre el bestiari i sobre els balls de Cavallets a Catalunya i de 24 plafons amb fotografies de tota mena dels Cavallets: des de la seva estrena la Palau de la Música Catalana a l'acte del 25à aniversari de l'Esbart Català de Dansaires fins a les fotografies de 2013 dels Cavallets Cotoners i dels Cavallets petits.\n\nTambé tenim a disposició del públic interessat el fulletó del mateix títol en el que a la primera part es fa repàs dels balls de Cavallets de Catalunya: Reus\, Sant Feliu de Pallerols\, Mataró\, Tarragona\, etc. i a la segona es repassa la història dels Cavallets Cotoners de Barcelona\, tot plegat il·lustrat amb fotografies.\n\nHoraris de la Casa dels Entremesos:\n\nDimarts a dissabte\, de 10 a 13 i de 16 a 19 h.\nDiumenges i festius d’11 a 14 h.\nDilluns tancat.
URL:https://www.bestiari.cat/esdeveniment/cavallets-endavant-els-cavallets-cotoners-de-barcelona/
LOCATION:Plaça de les Beates 3\, Barcelona\, Barcelona\, 08003\, Espanya
CATEGORIES:Activitats associats,Barcelona Ciutat
ATTACH;FMTTYPE=image/jpeg:https://www.bestiari.cat/wp-content/uploads/2018/11/Captura-768x772.jpg
END:VEVENT
END:VCALENDAR