BEGIN:VCALENDAR
VERSION:2.0
PRODID:-//Agrupació del Bestiari Festiu i Popular de Catalunya - ECPv4.5.3//NONSGML v1.0//EN
CALSCALE:GREGORIAN
METHOD:PUBLISH
X-WR-CALNAME:Agrupació del Bestiari Festiu i Popular de Catalunya
X-ORIGINAL-URL:https://www.bestiari.cat
X-WR-CALDESC:Events for Agrupació del Bestiari Festiu i Popular de Catalunya
BEGIN:VEVENT
DTSTART;TZID=UTC+1:20250726T203000
DTEND;TZID=UTC+1:20250726T235900
DTSTAMP:20260420T061047
CREATED:20250720T150717Z
LAST-MODIFIED:20250720T150734Z
UID:27149-1753561800-1753574340@www.bestiari.cat
SUMMARY:Cercavila a Els Pallaresos
DESCRIPTION:Cercavila a Els Pallaresos \n\nLa bèstia torna a sortir! La Quimera us convida a viure una nit plena de foc\, ritme i tradició! El proper 26 de juliol a la Plaça de l’Església de Els Pallaresos.\n\nHoraris\n\n \t20.30h - Plantada de bèsties\n \t21.15h - Tabalada\n \t22.00h - Cercavila amb toc i espectacle!\n\nColles Convidades\n\n \tBou de Tarragona\n \tAgremont d'Agramunt\n\n \n\n \n\n \n\n 
URL:https://www.bestiari.cat/esdeveniment/cercavila-a-els-pallaresos/
LOCATION:Els Pallaresos\, Espanya
CATEGORIES:Activitats associats,El Camp-Conca-Priorat,Territorials
END:VEVENT
END:VCALENDAR