BEGIN:VCALENDAR
VERSION:2.0
PRODID:-//Agrupació del Bestiari Festiu i Popular de Catalunya - ECPv4.5.3//NONSGML v1.0//EN
CALSCALE:GREGORIAN
METHOD:PUBLISH
X-WR-CALNAME:Agrupació del Bestiari Festiu i Popular de Catalunya
X-ORIGINAL-URL:https://www.bestiari.cat
X-WR-CALDESC:Events for Agrupació del Bestiari Festiu i Popular de Catalunya
BEGIN:VEVENT
DTSTART;TZID=UTC+1:20191208T120000
DTEND;TZID=UTC+1:20191208T140000
DTSTAMP:20260419T214459
CREATED:20191203T091226Z
LAST-MODIFIED:20191203T091339Z
UID:6390-1575806400-1575813600@www.bestiari.cat
SUMMARY:Cercavila amb els gegants i el drac de Castellet i la Gornal
DESCRIPTION:El pròxim diumenge 8 de desembre\, per celebrar les Festes d'hivern de Sant Marçal\, hi ha preparades diferents activitats al municipi de Castellet i la Gornal. A les 12.15 hores els gegants i el drac faran una ballada a la plaça de l'Església. Més tard\, a les 12.30 h\, començarà una cercavila amb els gegants del municipi\, el Drac de Sant Marçal i els Gegants de la Granada.
URL:https://www.bestiari.cat/esdeveniment/cercavila-amb-els-gegants-i-el-drac-de-castellet-i-la-gornal/
CATEGORIES:Altres activitats,Penedès-Garraf
ATTACH;FMTTYPE=image/jpeg:https://www.bestiari.cat/wp-content/uploads/2019/12/Cartell-festes-de-Sant-Marçal.jpg
END:VEVENT
END:VCALENDAR