BEGIN:VCALENDAR
VERSION:2.0
PRODID:-//Agrupació del Bestiari Festiu i Popular de Catalunya - ECPv4.5.3//NONSGML v1.0//EN
CALSCALE:GREGORIAN
METHOD:PUBLISH
X-WR-CALNAME:Agrupació del Bestiari Festiu i Popular de Catalunya
X-ORIGINAL-URL:https://www.bestiari.cat
X-WR-CALDESC:Events for Agrupació del Bestiari Festiu i Popular de Catalunya
BEGIN:VEVENT
DTSTART;TZID=UTC+1:20230715T183000
DTEND;TZID=UTC+1:20230715T233000
DTSTAMP:20260420T002746
CREATED:20230712T162651Z
LAST-MODIFIED:20230712T162651Z
UID:22385-1689445800-1689463800@www.bestiari.cat
SUMMARY:Cercavila a Bellmunt del Priorat
DESCRIPTION:A Bellmunt del Priorat aquest proper dissabte 15 de juliol us proposen l'Amplomada\, un cercavila amb la participació del Bou de Reus\, Lo Peix de Bellmunt\, el Drac de Reus i la Galera de Cambrils.\n\nPrograma:\n18.30 h Plantada a la piscina municipal\n19.00 h a 21.00 h cercavila amb la txaranga BandSonats\nSopar i festa amb l'Artriste\nFinal de festa amb DJ Ceba\n\n
URL:https://www.bestiari.cat/esdeveniment/cercavila-bellmunt-priorat/
CATEGORIES:Activitats associats,El Camp-Conca-Priorat,Territorials
END:VEVENT
END:VCALENDAR