BEGIN:VCALENDAR
VERSION:2.0
PRODID:-//Agrupació del Bestiari Festiu i Popular de Catalunya - ECPv4.5.3//NONSGML v1.0//EN
CALSCALE:GREGORIAN
METHOD:PUBLISH
X-WR-CALNAME:Agrupació del Bestiari Festiu i Popular de Catalunya
X-ORIGINAL-URL:https://www.bestiari.cat
X-WR-CALDESC:Events for Agrupació del Bestiari Festiu i Popular de Catalunya
BEGIN:VEVENT
DTSTART;TZID=UTC+1:20231216T160000
DTEND;TZID=UTC+1:20231216T200000
DTSTAMP:20260419T183635
CREATED:20231213T161003Z
LAST-MODIFIED:20231213T161149Z
UID:23138-1702742400-1702756800@www.bestiari.cat
SUMMARY:Colla Ferafoc de Sant Quintí de Mediona "Juga per la Marató"
DESCRIPTION:L'Associació Colla Ferafoc de Sant Quintí de Mediona organitza l'activitat Juga per la Marató el dissabte dia 16 de desembre de 2023 a la tarda amb motiu de la Marató de TV3. Us deixem aquí tota la informació sobre l'acte!\n\n Descobreix l'univers dels Jocs de Taula!  Vine i participa a la jornada de Jocs de Taula el 16 de desembre de 2023\, de les 16 a les 20 hores\, a la Sala dels Balcons del Centre Cívic El Jardí de Sant Quintí de Mediona. \n\n Tots els beneficis aniran destinats a la Marató de TV3\, així que juguem per una bona causa! \n\n L'acte inclourà un deliciós berenar pels participants per carregar energies mentre es diverteixen amb els millors jocs de taula. \n\n A més\, tens l'oportunitat de guanyar increïbles jocs de taula en els sortejos que farem entre els participants! No et perdis aquesta oportunitat de passar una tarda divertida mentre col·laborem amb una causa solidària. \n\nT'esperem per compartir rialles\, estratègia i solidaritat! No faltis! \n\n
URL:https://www.bestiari.cat/esdeveniment/colla-ferafoc-de-sant-quinti-de-mediona-juga-per-la-marato/
CATEGORIES:Activitats associats,Penedès-Garraf,Territorials
END:VEVENT
END:VCALENDAR