BEGIN:VCALENDAR
VERSION:2.0
PRODID:-//Agrupació del Bestiari Festiu i Popular de Catalunya - ECPv4.5.3//NONSGML v1.0//EN
CALSCALE:GREGORIAN
METHOD:PUBLISH
X-WR-CALNAME:Agrupació del Bestiari Festiu i Popular de Catalunya
X-ORIGINAL-URL:https://www.bestiari.cat
X-WR-CALDESC:Events for Agrupació del Bestiari Festiu i Popular de Catalunya
BEGIN:VEVENT
DTSTART;TZID=UTC+1:20221014T200000
DTEND;TZID=UTC+1:20221014T210000
DTSTAMP:20260420T003005
CREATED:20221011T051558Z
LAST-MODIFIED:20221011T051757Z
UID:19686-1665777600-1665781200@www.bestiari.cat
SUMMARY:Concert de gralles al Vendrell amb Canya d'or
DESCRIPTION:El pròxim divendres 14 d'octubre\, a les 20.00 h\, al Teatre Àngel Guimerà del Vendrell\, l'Associació d'Amics de l'Orgue del Vendrell oferirà el concert Al Vendrell\, les gralles coorganitzat conjuntament amb la publicació Temporada. L'esdeveniment suposarà l’inici d’una sèrie de concerts de gralles que anualment s’oferiran a la vila.\n\nUna mica de presentació...\nLa història de la música\, de les festes i de la cultura del Vendrell és indissociable de les gralles i dels grallers i els timbalers que\, com està ben documentat\, van sonar per carrers de la nostra vila gairebé de manera ininterrompuda des del segle XIX.\nSeguint amb aquesta tradició i amb la voluntat d’ampliar l’espai de les gralles\, en aquests concerts hi participaran tant grups de gralles emergents\, com grups ja consolidats que destaquin per la seva qualitat\, repertori i innovació\, tot mantenint les arrels de la tradició dels grups de grallers històrics.\nEn el cas del concert de divendres\, actuarà al Teatre Àngel Guimerà el grup de grallers Canya d'or (Jaume Aguza i Pol Figuerola\, gralla\, Oriol Nicolau\, gralla baixa i Òscar “Titus” Prats\, timbal). Per aquesta ocasió es comptarà amb les col·laboracions de Daniel Carbonell\, gralla\, i de Ya-Nung Huang\, suona provinent de Taiwan.\nComplementàriament\, cada any l’Associació d’Amics de l’Orgue del Vendrell encarregarà una composició per a gralles\, la qual s’estrenarà durant el concert. En aquest cas\, la peça que s'estrenarà divendres és Notes líquides\, de Marta Pujadas\, la segona de la col·lecció de partitures Al Vendrell\, les gralles\, que l'Associació d'Amics de l'Orgue del Vendrell va iniciar l’any passat. Així doncs\, concert rere concert s'anirà completant la col·lecció perquè formi part del repertori graller.\nPer poder assistir a l'acte\, cal reservar entrada a través del següent enllaç: https://temporada.koobin.cat/index.php?action=PU_evento&Ev_id=230
URL:https://www.bestiari.cat/esdeveniment/concert-de-gralles-al-vendrell-amb-canya-dor/
CATEGORIES:Activitats associats,Penedès-Garraf
ATTACH;FMTTYPE=image/jpeg:https://www.bestiari.cat/wp-content/uploads/2022/10/168406773_138950774899629_8346315054309530270_n.jpeg
END:VEVENT
END:VCALENDAR