BEGIN:VCALENDAR
VERSION:2.0
PRODID:-//Agrupació del Bestiari Festiu i Popular de Catalunya - ECPv4.5.3//NONSGML v1.0//EN
CALSCALE:GREGORIAN
METHOD:PUBLISH
X-WR-CALNAME:Agrupació del Bestiari Festiu i Popular de Catalunya
X-ORIGINAL-URL:https://www.bestiari.cat
X-WR-CALDESC:Events for Agrupació del Bestiari Festiu i Popular de Catalunya
BEGIN:VEVENT
DTSTART;VALUE=DATE:20211113
DTEND;VALUE=DATE:20211113
DTSTAMP:20260419T232215
CREATED:20211029T104916Z
LAST-MODIFIED:20211111T114004Z
UID:16088-1636761600-1636847999@www.bestiari.cat
SUMMARY:Concurs de Tabals Tradicionals de Terrassa
DESCRIPTION:Concurs de tabals tradicionals de Terrassa el pròxim dissabte 13 de novembre.\n\nEnllaç a la notícia: El primer Concurs de Tabals Tradicionals de Terrassa comptarà amb una classe magistral de Gerard Pouget\n\n 
URL:https://www.bestiari.cat/esdeveniment/concurs-de-tabals-tradicionals-de-terrassa/
CATEGORIES:Activitats associats,Vallès-Maresme-Barcelonès Nord
ATTACH;FMTTYPE=image/jpeg:https://www.bestiari.cat/wp-content/uploads/2021/10/246608617_2709536849348005_5427291911880453896_n.jpg
END:VEVENT
END:VCALENDAR