BEGIN:VCALENDAR
VERSION:2.0
PRODID:-//Agrupació del Bestiari Festiu i Popular de Catalunya - ECPv4.5.3//NONSGML v1.0//EN
CALSCALE:GREGORIAN
METHOD:PUBLISH
X-WR-CALNAME:Agrupació del Bestiari Festiu i Popular de Catalunya
X-ORIGINAL-URL:https://www.bestiari.cat
X-WR-CALDESC:Events for Agrupació del Bestiari Festiu i Popular de Catalunya
BEGIN:VEVENT
DTSTART;TZID=UTC+1:20190508T190000
DTEND;TZID=UTC+1:20190508T210000
DTSTAMP:20260419T214459
CREATED:20190509T095154Z
LAST-MODIFIED:20190509T095200Z
UID:5067-1557342000-1557349200@www.bestiari.cat
SUMMARY:"Conferència de l'Ens": Establiments emblemàtics: memòria i patrimoni de la ciutat
DESCRIPTION:Sabíeu que molts dels capgrossos\, gegants i altres criatures de cartó pedra que desfilen a les festes arreu de Catalunya han sortit del taller de El Ingenio\, la botiga dedicada a la festa situada al barri Gòtic de Barcelona? O que l'establiment Poblet La Africana\, tot un referent en vestuari laboral al districte de Sant Martí\, va obrir les seves portes l'any 1909 com una botiga dedicada al comerç de draps amb el nord d'Àfrica?\nCom El Ingenio o La Africana\, Barcelona està plena d'establiments emblemàtics\, cereries\, botigues de teles i teixits\, d'espardenyes\, guanteries\, camiseries\, orxateries\, bodegues o bars (fins i tot trobem locals de parallamps)\, alguns tan cèlebres com Els Quatre Gats o el Cafè de l'Òpera\, però altres desconeguts per la majoria\, que conserven l'arquitectura i el mobiliari original\, així com un munt d'històries i records.\nUn centenar d'aquests locals s'han recollit ara en la guia Emblemàtics Barcelona. El proper dimecres 8 de maig presentarem aquesta nova guia a la seu de l'Ens. I per això comptarem amb el seu autor\, el fotògraf Esteve Vilarrúbies\, i el vicepresident de l'Associació d'Establiments Emblemàtics\, Josep Maria Roig.\nL'acte serà a les 19.00 h a la seu social de l'Ens (Carrer València 558\, 6è 1ª).\nPodeu consultar en la notícia publicada a Tornaveu: https://bit.ly/2vm3QtB\nSi voleu assistir-hi\, confirmeu si us plau l'assistència enviant un correu a aquesta mateixa adreça (info@ens.cat) especificant el vostre nom i entitat a la qual formeu part. L'entrada és gratuïta per a tothom.
URL:https://www.bestiari.cat/esdeveniment/conferencia-de-lens-establiments-emblematics-memoria-i-patrimoni-de-la-ciutat/
LOCATION:Carrer València\, 558\, 6è 1r\, Barcelona\, Espanya
CATEGORIES:Altres activitats,Barcelona Ciutat
ATTACH;FMTTYPE=image/jpeg:https://www.bestiari.cat/wp-content/uploads/2019/05/jlaagmcceijfpkcl.jpg
END:VEVENT
END:VCALENDAR