BEGIN:VCALENDAR
VERSION:2.0
PRODID:-//Agrupació del Bestiari Festiu i Popular de Catalunya - ECPv4.5.3//NONSGML v1.0//EN
CALSCALE:GREGORIAN
METHOD:PUBLISH
X-WR-CALNAME:Agrupació del Bestiari Festiu i Popular de Catalunya
X-ORIGINAL-URL:https://www.bestiari.cat
X-WR-CALDESC:Events for Agrupació del Bestiari Festiu i Popular de Catalunya
BEGIN:VEVENT
DTSTART;TZID=UTC+1:20200417T180000
DTEND;TZID=UTC+1:20200419T190000
DTSTAMP:20260420T061048
CREATED:20200219T100339Z
LAST-MODIFIED:20200403T140629Z
UID:8058-1587146400-1587322800@www.bestiari.cat
SUMMARY:Congrés Nacional de Música d'Arrel (AJORNAT)
DESCRIPTION:Del 17 al 19 d'abril se celebrarà al Centre Artesà Tradicionàrius el primer Congrés Nacional de Música d'Arrel. L'objectiu d'aquest esdeveniment és debatre sobre el context actual i futur d'aquest tipus de música. Per fer-ho\, es donaran a conèixer les diferents realitats del sector i es remarcarà en la necessitat de revifar-lo a través de la suma de complicitats i esforços.
URL:https://www.bestiari.cat/esdeveniment/congres-nacional-de-musica-darrel/
CATEGORIES:Altres activitats,Barcelona Ciutat
ATTACH;FMTTYPE=image/jpeg:https://www.bestiari.cat/wp-content/uploads/2020/02/Cartell-Congrés-Música-Arrel.jpg
END:VEVENT
END:VCALENDAR