BEGIN:VCALENDAR
VERSION:2.0
PRODID:-//Agrupació del Bestiari Festiu i Popular de Catalunya - ECPv4.5.3//NONSGML v1.0//EN
CALSCALE:GREGORIAN
METHOD:PUBLISH
X-WR-CALNAME:Agrupació del Bestiari Festiu i Popular de Catalunya
X-ORIGINAL-URL:https://www.bestiari.cat
X-WR-CALDESC:Events for Agrupació del Bestiari Festiu i Popular de Catalunya
BEGIN:VEVENT
DTSTART;TZID=UTC+1:20230811T190000
DTEND;TZID=UTC+1:20230811T233000
DTSTAMP:20260419T232216
CREATED:20230801T101433Z
LAST-MODIFIED:20230801T101433Z
UID:22457-1691780400-1691796600@www.bestiari.cat
SUMMARY:Correbars amb la Mulassa de Falset
DESCRIPTION:El CORREBARS 2023 de la Mulassa de Falset tindrà lloc el divendres 11 d'agost a les 19 h des de la plaça de la Quartera.\nPodeu comprar tiquets anticipats en aquest enllaç o bé a les 18.30 h el mateix divendres.\n\n
URL:https://www.bestiari.cat/esdeveniment/correbars-mulassa-falset/
CATEGORIES:Activitats associats,El Camp-Conca-Priorat,Territorials
END:VEVENT
END:VCALENDAR