BEGIN:VCALENDAR
VERSION:2.0
PRODID:-//Agrupació del Bestiari Festiu i Popular de Catalunya - ECPv4.5.3//NONSGML v1.0//EN
CALSCALE:GREGORIAN
METHOD:PUBLISH
X-WR-CALNAME:Agrupació del Bestiari Festiu i Popular de Catalunya
X-ORIGINAL-URL:https://www.bestiari.cat
X-WR-CALDESC:Events for Agrupació del Bestiari Festiu i Popular de Catalunya
BEGIN:VEVENT
DTSTART;TZID=UTC+1:20191130T173000
DTEND;TZID=UTC+1:20191130T190000
DTSTAMP:20260419T232241
CREATED:20191128T093325Z
LAST-MODIFIED:20191128T093355Z
UID:6335-1575135000-1575140400@www.bestiari.cat
SUMMARY:Correfoc a Montornès del Vallès
DESCRIPTION:Aquest dissabte 30 de novembre\, el Ball de Diables de Montornès del Vallès i el Drac Ceballot faran un correfoc amb motiu de les festes de Sant Sadurní.\n\nHoraris: \n\n17.30 h: Es farà un recorregut sense foc que passarà per la plaça de Pau Picasso\, el carrer Major\, el carrer de Jacint Verdaguer\, el carrer de Jaume Balmes i la plaça de la Font.\n\n18 h: Recorregut amb foc\, que passarà per la plaça de la Font\, el carrer de Jaume Balmes i la plaça de Joan Miró.\n\nUs podeu descarregar el programa de les festes de Sant Sadurní en el següent enllaç.
URL:https://www.bestiari.cat/esdeveniment/correfoc-a-montornes-del-valles/
LOCATION:plaça de Pau Picasso\, Montornès del Vallès\, Barcelona\, 08170\, Espanya
CATEGORIES:Altres activitats,Vallès-Maresme-Barcelonès Nord
ATTACH;FMTTYPE=image/jpeg:https://www.bestiari.cat/wp-content/uploads/2019/11/Correfoc-Diables-Montornès.jpg
END:VEVENT
END:VCALENDAR