BEGIN:VCALENDAR
VERSION:2.0
PRODID:-//Agrupació del Bestiari Festiu i Popular de Catalunya - ECPv4.5.3//NONSGML v1.0//EN
CALSCALE:GREGORIAN
METHOD:PUBLISH
X-WR-CALNAME:Agrupació del Bestiari Festiu i Popular de Catalunya
X-ORIGINAL-URL:https://www.bestiari.cat
X-WR-CALDESC:Events for Agrupació del Bestiari Festiu i Popular de Catalunya
BEGIN:VEVENT
DTSTART;TZID=UTC+1:20191108T200000
DTEND;TZID=UTC+1:20191108T220000
DTSTAMP:20260419T214352
CREATED:20191108T111853Z
LAST-MODIFIED:20191108T111853Z
UID:5858-1573243200-1573250400@www.bestiari.cat
SUMMARY:Correfoc a Sant Martí de Tous (Anoia)
DESCRIPTION:Arriba la Festa Major de Sant Martí de Tous i amb ella el tradicional correfoc\, que enguany anirà a càrrec dels Diables de Santa Caterina i el Drac Mal-Llamp d'Igualada. L'acte es farà divendres 8 de novembre i començarà a les vuit del vespre des de la plaça Major.\n\nEl recorregut passarà pels carrers de Girona\, Prats\, Escoles i la Pau. Després anirà per la carretera i acabarà a la placeta de davant del sindicat. Allà\, per concloure la festa\, es llançarà un castell de foc.\n\n \n\n\n\n\n\n
URL:https://www.bestiari.cat/esdeveniment/correfoc-a-sant-marti-de-tous-anoia/
LOCATION:Plaça Major\, Sant Martí de Tous \, Barcelona\, 08712\, Espanya
CATEGORIES:Altres activitats,Comarques Centrals
ATTACH;FMTTYPE=image/jpeg:https://www.bestiari.cat/wp-content/uploads/2019/11/whatsapp_image_2019-10-30_at_13.53.35.jpeg
END:VEVENT
END:VCALENDAR