BEGIN:VCALENDAR
VERSION:2.0
PRODID:-//Agrupació del Bestiari Festiu i Popular de Catalunya - ECPv4.5.3//NONSGML v1.0//EN
CALSCALE:GREGORIAN
METHOD:PUBLISH
X-WR-CALNAME:Agrupació del Bestiari Festiu i Popular de Catalunya
X-ORIGINAL-URL:https://www.bestiari.cat
X-WR-CALDESC:Events for Agrupació del Bestiari Festiu i Popular de Catalunya
BEGIN:VEVENT
DTSTART;TZID=UTC+1:20251101T193000
DTEND;TZID=UTC+1:20251101T220000
DTSTAMP:20260419T183456
CREATED:20251028T162408Z
LAST-MODIFIED:20251028T162408Z
UID:27829-1762025400-1762034400@www.bestiari.cat
SUMMARY:Correfoc a Zarra\, València
DESCRIPTION:Correfoc a Zarra\, València\n\nEnguany els Trapelles i l'Espurna de Sant Antoni tenen la meravellosa oportunitat de celebrar el 10è aniversari de la Feria de la Matanza de Zarra i els 5 anys de l'Espurna!! El proper 1 de Novembre\, no podeu faltar a Zarra\, un poble de la València rural ubicat a la comarca del Valle de Ayora.\n\nA les 19.30h Inici del Correfoc\n\n\n\n 
URL:https://www.bestiari.cat/esdeveniment/correfoc-a-zarra-valencia/
LOCATION:València\, Espanya
CATEGORIES:Activitats associats,País Valencià,Territorials
END:VEVENT
END:VCALENDAR