BEGIN:VCALENDAR
VERSION:2.0
PRODID:-//Agrupació del Bestiari Festiu i Popular de Catalunya - ECPv4.5.3//NONSGML v1.0//EN
CALSCALE:GREGORIAN
METHOD:PUBLISH
X-WR-CALNAME:Agrupació del Bestiari Festiu i Popular de Catalunya
X-ORIGINAL-URL:https://www.bestiari.cat
X-WR-CALDESC:Events for Agrupació del Bestiari Festiu i Popular de Catalunya
BEGIN:VEVENT
DTSTART;TZID=UTC+1:20230716T220000
DTEND;TZID=UTC+1:20230716T233000
DTSTAMP:20260419T200138
CREATED:20230713T095356Z
LAST-MODIFIED:20230713T095356Z
UID:22401-1689544800-1689550200@www.bestiari.cat
SUMMARY:Correfoc amb L'Espurna\, el Drac de Calafell
DESCRIPTION:Arriba la FM de Calafell poble i comença a fer olor de polvora\, correfoc\, festa de germanor…\n\n\nDesprés de 50 anys\, tornem a tenir Bèstia de foc a Calafell.\n\nPosarem la pell de gallina a tots els Calafellencs\, de la millor manera que sabem\, amb la baixada del Drac Espurna des del Castell de Calafell fins la plaça Catalunya mentre sona l’himne de l’entitat i l’Espurna balla al compàs de la nostra melodia titulada "Soc Llegenda".\n\n\nD’aquesta manera viurem la nostra segona encesa al correfoc de Calafell Poble.
URL:https://www.bestiari.cat/esdeveniment/correfoc-amb-lespurna-el-drac-de-calafell/
CATEGORIES:Activitats associats,Penedès-Garraf,Territorials
END:VEVENT
END:VCALENDAR