BEGIN:VCALENDAR
VERSION:2.0
PRODID:-//Agrupació del Bestiari Festiu i Popular de Catalunya - ECPv4.5.3//NONSGML v1.0//EN
CALSCALE:GREGORIAN
METHOD:PUBLISH
X-WR-CALNAME:Agrupació del Bestiari Festiu i Popular de Catalunya
X-ORIGINAL-URL:https://www.bestiari.cat
X-WR-CALDESC:Events for Agrupació del Bestiari Festiu i Popular de Catalunya
BEGIN:VEVENT
DTSTART;TZID=UTC+1:20230814T233000
DTEND;TZID=UTC+1:20230815T020000
DTSTAMP:20260420T094726
CREATED:20230801T100929Z
LAST-MODIFIED:20230801T100929Z
UID:22454-1692055800-1692064800@www.bestiari.cat
SUMMARY:Corremulassa 2023\, Falset
DESCRIPTION:El dilluns 14 d'agost\, a les 00 h a la plaça de la Quartera de Falset tindrà lloc el CORREMULASSA 2023!\n\n
URL:https://www.bestiari.cat/esdeveniment/corremulassa-2023-falset/
CATEGORIES:Activitats associats,El Camp-Conca-Priorat,Territorials
END:VEVENT
END:VCALENDAR