BEGIN:VCALENDAR
VERSION:2.0
PRODID:-//Agrupació del Bestiari Festiu i Popular de Catalunya - ECPv4.5.3//NONSGML v1.0//EN
CALSCALE:GREGORIAN
METHOD:PUBLISH
X-WR-CALNAME:Agrupació del Bestiari Festiu i Popular de Catalunya
X-ORIGINAL-URL:https://www.bestiari.cat
X-WR-CALDESC:Events for Agrupació del Bestiari Festiu i Popular de Catalunya
BEGIN:VEVENT
DTSTART;TZID=UTC+1:20231222T183000
DTEND;TZID=UTC+1:20231222T230000
DTSTAMP:20260419T183549
CREATED:20231221T091313Z
LAST-MODIFIED:20231221T091313Z
UID:23184-1703269800-1703286000@www.bestiari.cat
SUMMARY:Correneules am els Diables de Terrassa
DESCRIPTION:Els Diables de Terrassa us proposen un Correneules aquest divendres 22 de desembre!\n\nUs deixem aquí la informació i el recorregut:\n\n
URL:https://www.bestiari.cat/esdeveniment/correneules-am-els-diables-de-terrassa/
CATEGORIES:Activitats associats,Territorials,Vallès-Maresme-Barcelonès Nord
END:VEVENT
END:VCALENDAR