BEGIN:VCALENDAR
VERSION:2.0
PRODID:-//Agrupació del Bestiari Festiu i Popular de Catalunya - ECPv4.5.3//NONSGML v1.0//EN
CALSCALE:GREGORIAN
METHOD:PUBLISH
X-WR-CALNAME:Agrupació del Bestiari Festiu i Popular de Catalunya
X-ORIGINAL-URL:https://www.bestiari.cat
X-WR-CALDESC:Events for Agrupació del Bestiari Festiu i Popular de Catalunya
BEGIN:VEVENT
DTSTART;TZID=UTC+1:20220301T203000
DTEND;TZID=UTC+1:20220301T230000
DTSTAMP:20260420T044323
CREATED:20220224T111631Z
LAST-MODIFIED:20220224T111631Z
UID:17414-1646166600-1646175600@www.bestiari.cat
SUMMARY:Crema dels Ninots amb la Víbria de Tarragona
DESCRIPTION:Dimarts 1 de març se celebrarà a Tarragona "La Crema dels Ninots". Durant l'acte\, organitzat pels Diables Voramar (la colla de la Víbria de Tarragona) tindrà lloc la crema de Sa Majestat el rei Carnestoltes i la Concubina. A les 20.45 h l'activitat es farà a la plaça de les Cols i a les 22 h a la plaça de la Font.
URL:https://www.bestiari.cat/esdeveniment/crema-dels-ninots-amb-la-vibria-de-tarragona/
LOCATION:plaça de les Cols\, Tarragona\, Tarragona\, 43001\, Espanya
CATEGORIES:Activitats associats,El Camp-Conca-Priorat
ATTACH;FMTTYPE=image/png:https://www.bestiari.cat/wp-content/uploads/2022/02/Captura-de-Pantalla-2022-02-24-a-les-12.10.34.png
END:VEVENT
END:VCALENDAR