BEGIN:VCALENDAR
VERSION:2.0
PRODID:-//Agrupació del Bestiari Festiu i Popular de Catalunya - ECPv4.5.3//NONSGML v1.0//EN
CALSCALE:GREGORIAN
METHOD:PUBLISH
X-WR-CALNAME:Agrupació del Bestiari Festiu i Popular de Catalunya
X-ORIGINAL-URL:https://www.bestiari.cat
X-WR-CALDESC:Events for Agrupació del Bestiari Festiu i Popular de Catalunya
BEGIN:VEVENT
DTSTART;TZID=UTC+1:20180428T090000
DTEND;TZID=UTC+1:20180428T183000
DTSTAMP:20260420T060933
CREATED:20180419T134538Z
LAST-MODIFIED:20180419T134538Z
UID:3650-1524906000-1524940200@www.bestiari.cat
SUMMARY:Curs de Responsable de Grup CRE a Mataró
DESCRIPTION:Es convoca una nova edició del curs de Responsables de Grup CRE adreçada als col·lectius de bestiari i diables\, que tindrà lloc el proper dissabte 28 d'abril de 2018 al Teatre de la Sala Cabanyes (C. de la Riera 110) a Mataró. S'adjunta el programa de la jornada formativa\, amb horaris i ponències.\n\nInscripcions:\n\nLes inscripcions del col·lectiu del bestiari festiu es poden vehicular a través de l'Agrupació del Bestiari Festiu i Popular de Catalunya.\n\nPer a fer-ho\, cal enviar escanejats al correu info@bestiari.cat els documents d'inscripció. Els podeu demanar en aquesta mateixa adreça de correu electrònic.\n\nÉs molt important que us presenteu el dia de la formació amb suficient antelació\, i que dugueu els papers originals i segellats per tal de poder obtenir posteriorment el títol\, si s'escau.\n\nLes inscripcions es realitzaran per rigorós ordre d'entrada.\n\nObtenció del títol:\n\nUn cop celebrada la jornada formativa\, i transcorregudes unes setmanes\, es rebran tots els certificats a la seu de l'Agrupació.\n\nUs enviarem una còpia escanejada al vostre correu electrònic per a que el pugueu disposar el més aviat possible.\n\nNo obstant\, haureu de recollir el certificat original en persona (o mitjançant un escrit d'autorització) a la seu de l'Agrupació o bé abans de començar l'Assemblea General Ordinària de cada any.
URL:https://www.bestiari.cat/esdeveniment/curs-de-responsable-de-grup-cre-a-mataro/
LOCATION:C. de la Riera\, 110\, Mataró\, Espanya
CATEGORIES:Activitats pròpies,Vallès-Maresme-Barcelonès Nord
ATTACH;FMTTYPE=image/jpeg:https://www.bestiari.cat/wp-content/uploads/2018/03/Sala-Cabanyes-Mataró.jpg
END:VEVENT
END:VCALENDAR