BEGIN:VCALENDAR
VERSION:2.0
PRODID:-//Agrupació del Bestiari Festiu i Popular de Catalunya - ECPv4.5.3//NONSGML v1.0//EN
CALSCALE:GREGORIAN
METHOD:PUBLISH
X-WR-CALNAME:Agrupació del Bestiari Festiu i Popular de Catalunya
X-ORIGINAL-URL:https://www.bestiari.cat
X-WR-CALDESC:Events for Agrupació del Bestiari Festiu i Popular de Catalunya
BEGIN:VEVENT
DTSTART;TZID=UTC+1:20170429T080000
DTEND;TZID=UTC+1:20170429T190000
DTSTAMP:20260420T061056
CREATED:20170417T171519Z
LAST-MODIFIED:20170417T171707Z
UID:2150-1493452800-1493492400@www.bestiari.cat
SUMMARY:Curs de Responsables de Grup CRE\, 29 d’abril a Riudoms
DESCRIPTION:\n\nNOVA CONVOCATÒRIA DE CURS DE RESPONSABLES DE GRUP CRE. El dissabte 29 d’abril a RIUDOMS\n\nA TOTES LES ENTITATS FEDERADES\n\nS’informa que s’ha convocat per al proper dissabte 29 d’abril de 2017\, de 9 a 18h\, un curs de Responsables de Grup CRE al Teatre Auditori del Casal Riudomenc (Carrer de Sant Jaume 2\, Riudoms).\n\nLes persones interessades en participar han d’emplenar degudament els dos documents de sol·licitud i retornar-los escanejats a l’adreça info@bestiari.cat.\n\nRebreu confirmació de la vostra inscripció per correu electrònic si la documentació lliurada és correcta i encara queden places disponibles. En cas contrari\, la inscripció quedarà sense efectes. RECORDEU que\, en cas de ser acceptats per a la formació\, cal dur aquests dos documents originals el dia del curs.\n\n
URL:https://www.bestiari.cat/esdeveniment/curs-de-responsables-de-grup-cre-29-dabril-a-riudoms/
LOCATION:Carrer de Sant Jaume 2\, Riudoms\, Espanya
CATEGORIES:Activitats pròpies
ATTACH;FMTTYPE=image/jpeg:https://www.bestiari.cat/wp-content/uploads/2017/04/casal_platea.jpg
END:VEVENT
END:VCALENDAR