BEGIN:VCALENDAR
VERSION:2.0
PRODID:-//Agrupació del Bestiari Festiu i Popular de Catalunya - ECPv4.5.3//NONSGML v1.0//EN
CALSCALE:GREGORIAN
METHOD:PUBLISH
X-WR-CALNAME:Agrupació del Bestiari Festiu i Popular de Catalunya
X-ORIGINAL-URL:https://www.bestiari.cat
X-WR-CALDESC:Events for Agrupació del Bestiari Festiu i Popular de Catalunya
BEGIN:VEVENT
DTSTART;TZID=UTC+1:20181108T200000
DTEND;TZID=UTC+1:20181108T213000
DTSTAMP:20260419T232354
CREATED:20181106T113705Z
LAST-MODIFIED:20181106T113705Z
UID:4395-1541707200-1541712600@www.bestiari.cat
SUMMARY:"De víbries i tarasques. Torna el monstre"\, Xerrada a la Casa dels Entremesos
DESCRIPTION:
URL:https://www.bestiari.cat/esdeveniment/de-vibries-i-tarasques-torna-el-monstre-xerrada-a-la-casa-dels-entremesos/
LOCATION:Plaça de les Beates\, 2\, Barcelona\, Barcelona\, 08010\, Espanya
CATEGORIES:Activitats associats,Barcelona Ciutat
ATTACH;FMTTYPE=image/jpeg:https://www.bestiari.cat/wp-content/uploads/2018/11/45447440_1260315174110024_8093049864180465664_n.jpg
END:VEVENT
END:VCALENDAR