BEGIN:VCALENDAR
VERSION:2.0
PRODID:-//Agrupació del Bestiari Festiu i Popular de Catalunya - ECPv4.5.3//NONSGML v1.0//EN
CALSCALE:GREGORIAN
METHOD:PUBLISH
X-WR-CALNAME:Agrupació del Bestiari Festiu i Popular de Catalunya
X-ORIGINAL-URL:https://www.bestiari.cat
X-WR-CALDESC:Events for Agrupació del Bestiari Festiu i Popular de Catalunya
BEGIN:VEVENT
DTSTART;TZID=UTC+1:20200418T080000
DTEND;TZID=UTC+1:20200418T233000
DTSTAMP:20260420T143010
CREATED:20200228T130440Z
LAST-MODIFIED:20200403T141302Z
UID:8335-1587196800-1587252600@www.bestiari.cat
SUMMARY:Dia del Diable (POSPOSAT)
DESCRIPTION:Dissabte 18 d'abril se celebrarà al Vendrell el Dia del Diable. L'acte coincidirà amb la celebració del 3er Concurs Nacional de Tabals Tradicionals.\n\nPrograma d'actes: \n\n \t8 h: Matinades a càrrec dels Reservistes del Ball de Diables. Sortiran des del Vial de França.\n \t11 h: Acte d'obertura del concurs de tabals i classe magistral sobre el tabal tradicional a la plaça del Tívoli.\n \t16.30 h: III Concurs Nacional de Tabals Tradicionals a la plaça del Tívoli.\n \t17.30 h: Primera fase del concurs. Es farà una cercavila de tabals pels carrers del centre de la vila.\n \t18.30 h: Fase final del concurs. A continuació: entrega de premis i trofeus als guanyadors.\n \t21.30 h: Cercavila de foc des del Vial de França. L'acte comptarà amb la participació de cinc balls de diables.\n \t00.00 h: Concert (confirmacions pròximament).\n
URL:https://www.bestiari.cat/esdeveniment/dia-del-diable/
LOCATION:plaça del Tívoli\, Tarragona\, El Vendrell\, 43700
CATEGORIES:Altres activitats,Penedès-Garraf
ATTACH;FMTTYPE=image/jpeg:https://www.bestiari.cat/wp-content/uploads/2020/02/Cartell-Dia-del-Diable.jpg
END:VEVENT
END:VCALENDAR