BEGIN:VCALENDAR
VERSION:2.0
PRODID:-//Agrupació del Bestiari Festiu i Popular de Catalunya - ECPv4.5.3//NONSGML v1.0//EN
CALSCALE:GREGORIAN
METHOD:PUBLISH
X-WR-CALNAME:Agrupació del Bestiari Festiu i Popular de Catalunya
X-ORIGINAL-URL:https://www.bestiari.cat
X-WR-CALDESC:Events for Agrupació del Bestiari Festiu i Popular de Catalunya
BEGIN:VEVENT
DTSTART;TZID=UTC+1:20181125T100000
DTEND;TZID=UTC+1:20181125T143000
DTSTAMP:20260420T044148
CREATED:20181121T073104Z
LAST-MODIFIED:20181121T073104Z
UID:4459-1543140000-1543156200@www.bestiari.cat
SUMMARY:Dia del Mamut
DESCRIPTION:Tallers\, jocs\, activitats\, actuacions\, xocolatada\, passejada amb el Mamut...\nVine a disfrutar d'aquest dia:\n\n10.30 h Participació de la colla castellera Carallots.\n11.30 h Tabalada a càrrec dels timbalers Àngels diabòlics.\n12 h Xocolatada.\n12.30 h Exhibició de zumba a càrrec del CEM Montserrat Canals.\n13.30 h Actuació de l'Escola de Teatre El Bitxo.\n\nDurant tot el diumenge hi haurà jocs\, tallers i moltes activitats per als més petits a la plaça de Sant Jordi de 10 a 14.30 h.\nEn cas de pluja es farà a la pista poliesportiva Francesc Macià.
URL:https://www.bestiari.cat/esdeveniment/dia-del-mamut/
LOCATION:Plaça de Sant Jordi\, Sant Vicenç dels Horts\, Barcelona\, 08620\, Espanya
CATEGORIES:Activitats associats,Baix Llobregat i L'Hospitalet
ATTACH;FMTTYPE=image/jpeg:https://www.bestiari.cat/wp-content/uploads/2018/11/Diada_Mamut.jpg
END:VEVENT
END:VCALENDAR