BEGIN:VCALENDAR
VERSION:2.0
PRODID:-//Agrupació del Bestiari Festiu i Popular de Catalunya - ECPv4.5.3//NONSGML v1.0//EN
CALSCALE:GREGORIAN
METHOD:PUBLISH
X-WR-CALNAME:Agrupació del Bestiari Festiu i Popular de Catalunya
X-ORIGINAL-URL:https://www.bestiari.cat
X-WR-CALDESC:Events for Agrupació del Bestiari Festiu i Popular de Catalunya
BEGIN:VEVENT
DTSTART;TZID=UTC+1:20180616T180000
DTEND;TZID=UTC+1:20180616T230000
DTSTAMP:20260419T214138
CREATED:20180618T055945Z
LAST-MODIFIED:20180618T060042Z
UID:3857-1529172000-1529190000@www.bestiari.cat
SUMMARY:Diada de la Fera
DESCRIPTION:Cartell de la DIADA DE LA FERA\n\nIl·lustracions: @juditcanal
URL:https://www.bestiari.cat/esdeveniment/diada-de-la-fera/
LOCATION:Plaça de Riells del Fai\, Bigues i Riells\, Espanya
CATEGORIES:Activitats associats,Vallès-Maresme-Barcelonès Nord
ATTACH;FMTTYPE=image/jpeg:https://www.bestiari.cat/wp-content/uploads/2018/06/Cartell-de-la-DIADA-DE-LA-FERA.jpeg
END:VEVENT
END:VCALENDAR