BEGIN:VCALENDAR
VERSION:2.0
PRODID:-//Agrupació del Bestiari Festiu i Popular de Catalunya - ECPv4.5.3//NONSGML v1.0//EN
CALSCALE:GREGORIAN
METHOD:PUBLISH
X-WR-CALNAME:Agrupació del Bestiari Festiu i Popular de Catalunya
X-ORIGINAL-URL:https://www.bestiari.cat
X-WR-CALDESC:Events for Agrupació del Bestiari Festiu i Popular de Catalunya
BEGIN:VEVENT
DTSTART;TZID=UTC+1:20221022T110000
DTEND;TZID=UTC+1:20221022T233000
DTSTAMP:20260420T003337
CREATED:20221013T190635Z
LAST-MODIFIED:20221013T190828Z
UID:19737-1666436400-1666481400@www.bestiari.cat
SUMMARY:Diada de la Malèfica del Coll i estrena de les bèsties infantils de la colla
DESCRIPTION:El pròxim dissabte 22 d'octubre se celebrarà\, a Barcelona\, la Diada de la Malèfica del Coll. Des de les onze del matí fins ben entrada la nit us espera al Parc de la Creueta del Coll una gran jornada festiva que tindrà de tot: gimcana de foc\, vermut musical\, dinar\, kinto musical\, tabalada i correfoc. A més\, a les sis de la tarda es presentaran les noves bèsties infantils de la colla i ja cap al vespre\, a partir de les nou\, hi haurà música amb Pd Sarah&Drea\, Ypnosi i Pd Malèfica.\n\nLes bèsties i colles convidades a la Tabalada i el Correfoc seran:\n\n \tLes Fures de Can Baró\n \tEls Malsons de la Vella\n \tLa Llum\, en Foc i en Tro de Molins de Rei\n \tEls dracs Jussà i Ullals de FOC d'Horta\n\nNo us perdeu aquesta gran festa que servirà per celebrar el desè aniversari dels Escuats de la Malèfica!
URL:https://www.bestiari.cat/esdeveniment/diada-de-la-malefica-del-coll-i-estrena-de-les-besties-infantils-de-la-colla/
LOCATION:Parc de la Creueta del Coll\, Barcelona\, Barcelona\, 08023\, Espanya
CATEGORIES:Activitats associats,Barcelona Ciutat
ATTACH;FMTTYPE=image/jpeg:https://www.bestiari.cat/wp-content/uploads/2022/10/7106a2f6-c14c-4b0d-8020-86f00dba4f5d.jpeg
END:VEVENT
END:VCALENDAR