BEGIN:VCALENDAR
VERSION:2.0
PRODID:-//Agrupació del Bestiari Festiu i Popular de Catalunya - ECPv4.5.3//NONSGML v1.0//EN
CALSCALE:GREGORIAN
METHOD:PUBLISH
X-WR-CALNAME:Agrupació del Bestiari Festiu i Popular de Catalunya
X-ORIGINAL-URL:https://www.bestiari.cat
X-WR-CALDESC:Events for Agrupació del Bestiari Festiu i Popular de Catalunya
BEGIN:VEVENT
DTSTART;VALUE=DATE:20211211
DTEND;VALUE=DATE:20211211
DTSTAMP:20260420T061245
CREATED:20211209T110334Z
LAST-MODIFIED:20211209T120621Z
UID:16456-1639180800-1639267199@www.bestiari.cat
SUMMARY:Diada de la Malèfica del Coll
DESCRIPTION:Dissabte 11 de desembre\, a les 14 h\, al Parc de la Creueta del Coll de Barcelona la colla la Malèfica del Coll celebrarà la seva diada amb una sèrie d'actes des de les 14 h fins la matinada... Us ho perdreu?\n\nPrograma: \n\n \t14 h: Dinar Popular\n \t16 h: Quinto Musical\n \t19.30 h: Tabalada des del Parc de la Creueta del Coll fins a la plaça de Flandes\n \t20.30 h: Correfoc des de la plaça de Flandes fins al Parc de la Creueta del Coll\n \t22 h: PD Tubbles\n \t23 h: PD Imbhècils\n \t00 h: DJ Karmelas\n
URL:https://www.bestiari.cat/esdeveniment/diada-de-la-malefica-del-coll/
CATEGORIES:Activitats associats,Barcelona Ciutat
ATTACH;FMTTYPE=image/jpeg:https://www.bestiari.cat/wp-content/uploads/2021/12/Cartell.jpg
END:VEVENT
END:VCALENDAR