BEGIN:VCALENDAR
VERSION:2.0
PRODID:-//Agrupació del Bestiari Festiu i Popular de Catalunya - ECPv4.5.3//NONSGML v1.0//EN
CALSCALE:GREGORIAN
METHOD:PUBLISH
X-WR-CALNAME:Agrupació del Bestiari Festiu i Popular de Catalunya
X-ORIGINAL-URL:https://www.bestiari.cat
X-WR-CALDESC:Events for Agrupació del Bestiari Festiu i Popular de Catalunya
BEGIN:VEVENT
DTSTART;TZID=UTC+1:20221015T100000
DTEND;TZID=UTC+1:20221015T230000
DTSTAMP:20260419T232456
CREATED:20221013T192403Z
LAST-MODIFIED:20221013T192649Z
UID:19746-1665828000-1665874800@www.bestiari.cat
SUMMARY:Diada del Xumet i Diada del Drac de Terrassa
DESCRIPTION:Després d'haver-se hagut d'ajornar per les tempestes torrencials del cap de setmana del 24 de setembre\, aquest dissabte 15 d'octubre se celebrarà la Diada del Xumet i la Diada del Drac de Terrassa.\n\nDes de les deu del matí fins a les sis de la tarda\, tots els nens i nenes que portin el seu xumet al Drac\, el podran canviar per un regal! A més\, dissabte al matí\, al Parc de Sant Jordi es faran jocs\, tallers i un espectacle d'animació pensat pels més petits de casa.\n\nJa a la tarda\, se celebrarà una cercavila de foc infantil i al vespre un correfoc adult.\n\nBusqueu al cartell les més de deu activitats que hi ha programades i trieu les que més us agradin!
URL:https://www.bestiari.cat/esdeveniment/diada-del-xumet-i-diada-del-drac-de-terrassa/
LOCATION:Parc de Sant Jordi\, Terrassa\, Barcelona\, 08224\, Espanya
CATEGORIES:Activitats associats,Vallès-Maresme-Barcelonès Nord
ATTACH;FMTTYPE=image/jpeg:https://www.bestiari.cat/wp-content/uploads/2022/10/311771514_544319421031803_6607469738647976821_n.jpeg
END:VEVENT
END:VCALENDAR