BEGIN:VCALENDAR
VERSION:2.0
PRODID:-//Agrupació del Bestiari Festiu i Popular de Catalunya - ECPv4.5.3//NONSGML v1.0//EN
CALSCALE:GREGORIAN
METHOD:PUBLISH
X-WR-CALNAME:Agrupació del Bestiari Festiu i Popular de Catalunya
X-ORIGINAL-URL:https://www.bestiari.cat
X-WR-CALDESC:Events for Agrupació del Bestiari Festiu i Popular de Catalunya
BEGIN:VEVENT
DTSTART;TZID=UTC+1:20181124T120000
DTEND;TZID=UTC+1:20181124T130000
DTSTAMP:20260419T232128
CREATED:20181119T073528Z
LAST-MODIFIED:20181119T073528Z
UID:4450-1543060800-1543064400@www.bestiari.cat
SUMMARY:El Conte de la Víbria.
DESCRIPTION:\n\nDissabte 24 de novembre\, a les 12\,00 hores i a la Sala d'actes de La Casa dels Entremesos\, presentació de: \n \n\n\nEl Conte de la Víbria. De com la Víbria de Barcelona es va fer de la Colla de la Plaça Nova \nde Mar Calvet\, amb il·lustracions de Glòria Fort.\n\n\n \nCom pot ser que una bèstia tan dolenta\, imatge de la malícia més terrible\, ara sigui un animaló divertit que forma part d'unes festes tan boniques com les Festes de Sant Roc de Barcelona?\nMar Calvet\, autora\, i Glòria Fort\, il·lustradora\, ens ho explicaran i presentaran "El conte de la Víbria".\n\nTot seguit conta contes de cultura popular amb Moi Aznar. Narració i animació que combinen la música\, l'escenografia i el conte.\nLes nenes i els nens assistents seran obsequiats amb un exemplar del "El conte de la Víbria".\n\n\nActe organitzat per l'Associació de Festes de la Plaça Nova en motiu dels 25 anys de la recuperació de la Víbria de Barcelona.\n\n\n\n\n\nEntrada lliure. Aforament limitat.
URL:https://www.bestiari.cat/esdeveniment/el-conte-de-la-vibria/
LOCATION:Plaça de les Beates 3\, Barcelona\, Barcelona\, 08003\, Espanya
CATEGORIES:Activitats associats,Barcelona Ciutat
ATTACH;FMTTYPE=image/jpeg:https://www.bestiari.cat/wp-content/uploads/2018/11/Conte_Vibria.jpg
END:VEVENT
END:VCALENDAR