BEGIN:VCALENDAR
VERSION:2.0
PRODID:-//Agrupació del Bestiari Festiu i Popular de Catalunya - ECPv4.5.3//NONSGML v1.0//EN
CALSCALE:GREGORIAN
METHOD:PUBLISH
X-WR-CALNAME:Agrupació del Bestiari Festiu i Popular de Catalunya
X-ORIGINAL-URL:https://www.bestiari.cat
X-WR-CALDESC:Events for Agrupació del Bestiari Festiu i Popular de Catalunya
BEGIN:VEVENT
DTSTART;TZID=UTC+1:20240104T100000
DTEND;TZID=UTC+1:20240104T200000
DTSTAMP:20260419T214322
CREATED:20240104T062857Z
LAST-MODIFIED:20240104T062857Z
UID:23294-1704362400-1704398400@www.bestiari.cat
SUMMARY:Els Guspires de Sants al Campament Reial
DESCRIPTION:La Colla dels Guspires de Sants seran al campament reial de Les Cotxeres de Sants\, si els vols conèixer\, és el moment!\n\nDijous 4 de gener de 2024 t'esperen al Pau sense treva de 10 h a 14 h i de 16 h a 20 h\n\n
URL:https://www.bestiari.cat/esdeveniment/els-guspires-de-sants-al-campament-reial/
CATEGORIES:Activitats associats,Barcelona Ciutat,Territorials
END:VEVENT
END:VCALENDAR