BEGIN:VCALENDAR
VERSION:2.0
PRODID:-//Agrupació del Bestiari Festiu i Popular de Catalunya - ECPv4.5.3//NONSGML v1.0//EN
CALSCALE:GREGORIAN
METHOD:PUBLISH
X-WR-CALNAME:Agrupació del Bestiari Festiu i Popular de Catalunya
X-ORIGINAL-URL:https://www.bestiari.cat
X-WR-CALDESC:Events for Agrupació del Bestiari Festiu i Popular de Catalunya
BEGIN:VEVENT
DTSTART;TZID=UTC+1:20220402T191500
DTEND;TZID=UTC+1:20220402T210000
DTSTAMP:20260420T044403
CREATED:20220329T104132Z
LAST-MODIFIED:20220406T082812Z
UID:17622-1648926900-1648933200@www.bestiari.cat
SUMMARY:Empaitafocs infantil-juvenil de la Cuqueta de Castellbisbal
DESCRIPTION:Dissabte 2 d'abril la Cuqueta de Castellbisbal serà la protagonista de l'Empaitafocs infantil-juvenil.\n\nL'acte començarà amb una tabalada a les 19.15 h i després\, serà el torn del correfoc\, que sortirà a les 19.30 h des de la plaça de l'Església. Caldrà anar ben protegit i portar roba de cotó\, amb mànigues i pantalons llargs.\n\nAltres de les colles participants a l'acte seran: els Petits Diables i els Diables Pixapólvora d'Igualada\, l'Associació Farfolla de la Sagrada Família i els Potafocs de Castellbisbal.
URL:https://www.bestiari.cat/esdeveniment/empaitafocs-infantil-juvenil-de-la-cuqueta-de-castellbisbal/
CATEGORIES:Activitats associats
ATTACH;FMTTYPE=image/jpeg:https://www.bestiari.cat/wp-content/uploads/2022/03/Screenshot_2.jpg
END:VEVENT
END:VCALENDAR