BEGIN:VCALENDAR
VERSION:2.0
PRODID:-//Agrupació del Bestiari Festiu i Popular de Catalunya - ECPv4.5.3//NONSGML v1.0//EN
CALSCALE:GREGORIAN
METHOD:PUBLISH
X-WR-CALNAME:Agrupació del Bestiari Festiu i Popular de Catalunya
X-ORIGINAL-URL:https://www.bestiari.cat
X-WR-CALDESC:Events for Agrupació del Bestiari Festiu i Popular de Catalunya
BEGIN:VEVENT
DTSTART;TZID=UTC+1:20251004T110000
DTEND;TZID=UTC+1:20251004T235900
DTSTAMP:20260419T200251
CREATED:20250929T152819Z
LAST-MODIFIED:20250929T152819Z
UID:27643-1759575600-1759622340@www.bestiari.cat
SUMMARY:Envíbria't - 3a Trobada de Bestiari de Foc de la Creu Alta
DESCRIPTION:Envíbria't - 3a Trobada de Bestiari de Foc de la Creu Alta\n\nL'Envíbria’t 2025 ja és aquí! La Trobada de Bèsties de Foc a la Creu Alta enguany celebra la seva 3a edició. El dissabte 4 d’octubre la Creu Alta s’omplirà de foc i tradició\, per això han organitzat una jornada plena d'activitats per tots els públics:\n\n \t17.30h Plantada de Bèsties\n \t19h Tabalada\n \t20h Correfoc\n\nAmb: Víbria la Creu Alta - Godra de Caldes de Montbui - Cuc de Molins de Rei\n\nUs deixem totes les activitats:\n\n  
URL:https://www.bestiari.cat/esdeveniment/envibriat-3a-trobada-de-bestiari-de-foc-de-la-creu-alta/
LOCATION:Sabadell \, Barcelona\, 08201\, Espanya
CATEGORIES:Altres activitats,Territorials,Vallès-Maresme-Barcelonès Nord
END:VEVENT
END:VCALENDAR