BEGIN:VCALENDAR
VERSION:2.0
PRODID:-//Agrupació del Bestiari Festiu i Popular de Catalunya - ECPv4.5.3//NONSGML v1.0//EN
CALSCALE:GREGORIAN
METHOD:PUBLISH
X-WR-CALNAME:Agrupació del Bestiari Festiu i Popular de Catalunya
X-ORIGINAL-URL:https://www.bestiari.cat
X-WR-CALDESC:Events for Agrupació del Bestiari Festiu i Popular de Catalunya
BEGIN:VEVENT
DTSTART;TZID=UTC+1:20210925T210000
DTEND;TZID=UTC+1:20210925T230000
DTSTAMP:20260419T200250
CREATED:20210922T104613Z
LAST-MODIFIED:20210922T105907Z
UID:15547-1632603600-1632610800@www.bestiari.cat
SUMMARY:Espectacle "Foc al virus": Lluïment de les entitats de foc de Molins de Rei
DESCRIPTION:El pròxim dissabte 25 de setembre\, els amants del foc tenen una cita a Molins de Rei. Amb motiu de la Festa Major\, les colles de foc de la localitat han organitzat l'espectacle "Foc al virus"\, en el qual es podran veure diferents enceses de lluïment. Per poder agafar lloc s'haurà d'estar 30 minuts abans a la plaça de la Mariona\, on es durà a terme l'acte.\n\nDurant l'activitat\, s'habilitaran unes cadires de zona de foc per aquells que\, tot i estar asseguts\, vulguin sentir les espurnes (en aquest cas cal anar protegits). També hi haurà cadires a la zona de no foc per gaudir de l'espectacle sense cremar-se.\n\nLes colles participants seran: el Grup del Drac "Cuc"\, el Grup de Foc Festinamus l'Entxuscat\,  la Colla de Diables de Molins de Rei l'Agrupa i els Dimonis de Molins de Rei.
URL:https://www.bestiari.cat/esdeveniment/espectacle-foc-al-virus-lluiment-de-les-entitats-de-foc-de-molins-de-rei/
LOCATION:Carrer Primer de Maig\, 10\, \, Molins de Rei\, Barcelona\, 08750\, Espanya
CATEGORIES:Activitats associats,Baix Llobregat i L'Hospitalet
ATTACH;FMTTYPE=image/jpeg:https://www.bestiari.cat/wp-content/uploads/2021/09/242298441_4568946456459843_2022106332860534355_n.jpg
END:VEVENT
END:VCALENDAR