BEGIN:VCALENDAR
VERSION:2.0
PRODID:-//Agrupació del Bestiari Festiu i Popular de Catalunya - ECPv4.5.3//NONSGML v1.0//EN
CALSCALE:GREGORIAN
METHOD:PUBLISH
X-WR-CALNAME:Agrupació del Bestiari Festiu i Popular de Catalunya
X-ORIGINAL-URL:https://www.bestiari.cat
X-WR-CALDESC:Events for Agrupació del Bestiari Festiu i Popular de Catalunya
BEGIN:VEVENT
DTSTART;TZID=UTC+1:20201025T180000
DTEND;TZID=UTC+1:20201025T200000
DTSTAMP:20260420T061219
CREATED:20201002T074347Z
LAST-MODIFIED:20201002T074347Z
UID:10831-1603648800-1603656000@www.bestiari.cat
SUMMARY:Exhibició de balls tradicional durant la cloenda de la Fira de Santa Úrsula
DESCRIPTION:La cloenda de la Fira de Santa Úrsula d'enguany comptarà amb balls tradicionals. Diumenge 25 d'octubre\, a les sis de la tarda\, es farà una exhibició del drac\, del ball de diables\, de l'os amb els trabucaires\, del basilisc\, del ball de gitanes\, dels nans\, dels gegants\, del ball de vells\, del ball de cercolets\, del ball de bastons\, del bou\, de la mulassa\, del ball de la primera i del lleó.\n\nL'acte es farà a la plaça del Pati i tots els balls comptaran amb l'acompanyament musical dels Ministrers Bufalodre. Per assistir a l'acte caldrà reservar l'entrada a les taquilles centrals del Teatre Principal\, a www.valls.cat i\, en cas de disponibilitat\, en els accessos del recinte. (Les entrades per aquest esdeveniment estaran disponibles més endavant).\n
URL:https://www.bestiari.cat/esdeveniment/exhibicio-de-balls-tradicional-durant-la-cloenda-de-la-fira-de-santa-ursula/
LOCATION:plaça del Pati \, Valls\, Tarragona\, 43800\, Espanya
CATEGORIES:Altres activitats,El Camp-Conca-Priorat
ATTACH;FMTTYPE=image/jpeg:https://www.bestiari.cat/wp-content/uploads/2020/10/staursula_0.jpg
END:VEVENT
END:VCALENDAR