BEGIN:VCALENDAR
VERSION:2.0
PRODID:-//Agrupació del Bestiari Festiu i Popular de Catalunya - ECPv4.5.3//NONSGML v1.0//EN
CALSCALE:GREGORIAN
METHOD:PUBLISH
X-WR-CALNAME:Agrupació del Bestiari Festiu i Popular de Catalunya
X-ORIGINAL-URL:https://www.bestiari.cat
X-WR-CALDESC:Events for Agrupació del Bestiari Festiu i Popular de Catalunya
BEGIN:VEVENT
DTSTART;VALUE=DATE:20190217
DTEND;VALUE=DATE:20190303
DTSTAMP:20260420T131822
CREATED:20190124T092232Z
LAST-MODIFIED:20190124T092232Z
UID:4709-1550361600-1551657599@www.bestiari.cat
SUMMARY:Exposició "5è Aniversari del Basilisc de Mataró"
DESCRIPTION:5è Aniversari del Basilisc de Mataró\n\nDel 17 de febrer al 3 de març - Exposició\n\nLloc: Ateneu de la Fundació Iluro (la Riera\,92)
URL:https://www.bestiari.cat/esdeveniment/exposicio-5e-aniversari-del-basilisc-de-mataro/
LOCATION:Carrer la Riera\, 92\, Mataró\, Barcelona\, 08301\, Espanya
CATEGORIES:Activitats associats,Vallès-Maresme-Barcelonès Nord
ATTACH;FMTTYPE=image/png:https://www.bestiari.cat/wp-content/uploads/2019/01/50340739_2083864221659708_3671847754159620096_n.png
END:VEVENT
END:VCALENDAR