BEGIN:VCALENDAR
VERSION:2.0
PRODID:-//Agrupació del Bestiari Festiu i Popular de Catalunya - ECPv4.5.3//NONSGML v1.0//EN
CALSCALE:GREGORIAN
METHOD:PUBLISH
X-WR-CALNAME:Agrupació del Bestiari Festiu i Popular de Catalunya
X-ORIGINAL-URL:https://www.bestiari.cat
X-WR-CALDESC:Events for Agrupació del Bestiari Festiu i Popular de Catalunya
BEGIN:VEVENT
DTSTART;VALUE=DATE:20180512
DTEND;VALUE=DATE:20180519
DTSTAMP:20260419T232239
CREATED:20180515T083104Z
LAST-MODIFIED:20180515T083104Z
UID:3754-1526083200-1526774399@www.bestiari.cat
SUMMARY:Exposició "Bèsties de festa 2"
DESCRIPTION:
URL:https://www.bestiari.cat/esdeveniment/exposicio-besties-de-festa-2/
LOCATION:C/ Marina Española\, 19\, Castelló de la Plana\, Espanya
CATEGORIES:Activitats associats,País Valencià
ATTACH;FMTTYPE=image/jpeg:https://www.bestiari.cat/wp-content/uploads/2018/05/Cartell-Expo2017-Besties-de-festa2_2018_Definitiu.jpg
END:VEVENT
END:VCALENDAR