BEGIN:VCALENDAR
VERSION:2.0
PRODID:-//Agrupació del Bestiari Festiu i Popular de Catalunya - ECPv4.5.3//NONSGML v1.0//EN
CALSCALE:GREGORIAN
METHOD:PUBLISH
X-WR-CALNAME:Agrupació del Bestiari Festiu i Popular de Catalunya
X-ORIGINAL-URL:https://www.bestiari.cat
X-WR-CALDESC:Events for Agrupació del Bestiari Festiu i Popular de Catalunya
BEGIN:VEVENT
DTSTART;VALUE=DATE:20191003
DTEND;VALUE=DATE:20191030
DTSTAMP:20260420T003447
CREATED:20190916T202506Z
LAST-MODIFIED:20190916T202506Z
UID:5462-1570060800-1572479999@www.bestiari.cat
SUMMARY:Exposició Botafocs: "Façanes\, peixeres i un conte" ... i altres objectes d'aniversari del nostre bestiari
DESCRIPTION:
URL:https://www.bestiari.cat/esdeveniment/exposicio-botafocs-facanes-peixeres-i-un-conte-i-altres-objectes-daniversari-del-nostre-bestiari/
LOCATION:Carrer Cavallers\, 25\, Castelló de la Plana\, Espanya
CATEGORIES:Activitats associats,País Valencià
ATTACH;FMTTYPE=image/jpeg:https://www.bestiari.cat/wp-content/uploads/2019/09/A_Cartell-Expo-Ikaré_Xarxa_Definitiu-Definitiu-Definitiu-2019.jpg
END:VEVENT
END:VCALENDAR