BEGIN:VCALENDAR
VERSION:2.0
PRODID:-//Agrupació del Bestiari Festiu i Popular de Catalunya - ECPv4.5.3//NONSGML v1.0//EN
CALSCALE:GREGORIAN
METHOD:PUBLISH
X-WR-CALNAME:Agrupació del Bestiari Festiu i Popular de Catalunya
X-ORIGINAL-URL:https://www.bestiari.cat
X-WR-CALDESC:Events for Agrupació del Bestiari Festiu i Popular de Catalunya
BEGIN:VEVENT
DTSTART;TZID=UTC+1:20220411T080000
DTEND;TZID=UTC+1:20220422T170000
DTSTAMP:20260422T100840
CREATED:20220406T091902Z
LAST-MODIFIED:20220406T092201Z
UID:17749-1649664000-1650646800@www.bestiari.cat
SUMMARY:Exposició "Cremant el món del Foc" a l'Hospitalet de l'Infant
DESCRIPTION:De l'11 al 22 d'abril\, al Hall del Teatre-Auditori de l'Hospitalet de l'Infant\, es podrà anar a veure la primera exposició de "Cremant el món del Foc" amb el seguici festiu de: "Foc a la Metxa" dels Diables del Perelló\, el Cavallet de Mar del Foment Cultural i el Ball de Diables de l'Hospitalet de l'Infant.
URL:https://www.bestiari.cat/esdeveniment/exposicio-cremant-el-mon-del-foc/
LOCATION:c/ Ramon Berenguer IV\, 2\, L'Hospitalet de l'Infant\, Tarragona\, 43890\, Espanya
CATEGORIES:Altres activitats,El Camp-Conca-Priorat
ATTACH;FMTTYPE=image/jpeg:https://www.bestiari.cat/wp-content/uploads/2022/04/Expo-Cremant-el-món-del-Foc.jpg
END:VEVENT
END:VCALENDAR