BEGIN:VCALENDAR
VERSION:2.0
PRODID:-//Agrupació del Bestiari Festiu i Popular de Catalunya - ECPv4.5.3//NONSGML v1.0//EN
CALSCALE:GREGORIAN
METHOD:PUBLISH
X-WR-CALNAME:Agrupació del Bestiari Festiu i Popular de Catalunya
X-ORIGINAL-URL:https://www.bestiari.cat
X-WR-CALDESC:Events for Agrupació del Bestiari Festiu i Popular de Catalunya
BEGIN:VEVENT
DTSTART;TZID=UTC+1:20180919T100000
DTEND;TZID=UTC+1:20180922T200000
DTSTAMP:20260419T214233
CREATED:20180909T104630Z
LAST-MODIFIED:20180909T104630Z
UID:4123-1537351200-1537646400@www.bestiari.cat
SUMMARY:Exposició de bestiari de la Mercè
DESCRIPTION:
URL:https://www.bestiari.cat/esdeveniment/exposicio-de-bestiari-de-la-merce/
LOCATION:Plaça Comercial\, 12\, Barcelona\, Espanya
CATEGORIES:Activitats pròpies,Barcelona Ciutat
ATTACH;FMTTYPE=image/png:https://www.bestiari.cat/wp-content/uploads/2018/09/BannerMERCE18.png
ORGANIZER;CN="Agrupaci%C3%B3%20del%20Bestiari%20Festiu%20i%20Popular%20de%20Catalunya":MAILTO:info@bestiari.cat
END:VEVENT
END:VCALENDAR