BEGIN:VCALENDAR
VERSION:2.0
PRODID:-//Agrupació del Bestiari Festiu i Popular de Catalunya - ECPv4.5.3//NONSGML v1.0//EN
CALSCALE:GREGORIAN
METHOD:PUBLISH
X-WR-CALNAME:Agrupació del Bestiari Festiu i Popular de Catalunya
X-ORIGINAL-URL:https://www.bestiari.cat
X-WR-CALDESC:Events for Agrupació del Bestiari Festiu i Popular de Catalunya
BEGIN:VEVENT
DTSTART;TZID=UTC+1:20220425T080000
DTEND;TZID=UTC+1:20220507T170000
DTSTAMP:20260420T185732
CREATED:20220426T115933Z
LAST-MODIFIED:20220426T123155Z
UID:17945-1650873600-1651942800@www.bestiari.cat
SUMMARY:Exposició de bèsties a La Sagrera
DESCRIPTION:Del 25 d'abril al 7 de maig es podrà visitar al Casal de Barri Torre de la Sagrera de Barcelona una exposició de bestiari. L'acte\, organitzat per la colla Drac\, Diables i Gegants de la Sagrera\, s'emmarca dins del calendari d'activitats del 30è aniversari del Sagresaure de Barcelona. Algunes de les bèsties que es poden veure són:\n\n \tMulassa Feixuga del Vendrell\n \tFil·loxera infantil de Sant Sadurní d'Anoia\n \tFil·loxereta infantil de Sant Sadurní d'Anoia\n \tCep Infantil de Sant Sadurní d'Anoia\n \tCa Cèrber Bretolàs de Sant Andreu\n \tVoraxcis d'Igualada\n \tSagresaure de Barcelona\n \tSagresaureta de la Sagrera\n \tDrac Volador de la Sagrera\n
URL:https://www.bestiari.cat/esdeveniment/exposicio-de-besties-a-la-sagrera/
CATEGORIES:Activitats associats,Barcelona Ciutat
ATTACH;FMTTYPE=image/jpeg:https://www.bestiari.cat/wp-content/uploads/2022/04/4736307a-f1a8-490d-8378-660fbc80696b.jpg
END:VEVENT
END:VCALENDAR