BEGIN:VCALENDAR
VERSION:2.0
PRODID:-//Agrupació del Bestiari Festiu i Popular de Catalunya - ECPv4.5.3//NONSGML v1.0//EN
CALSCALE:GREGORIAN
METHOD:PUBLISH
X-WR-CALNAME:Agrupació del Bestiari Festiu i Popular de Catalunya
X-ORIGINAL-URL:https://www.bestiari.cat
X-WR-CALDESC:Events for Agrupació del Bestiari Festiu i Popular de Catalunya
BEGIN:VEVENT
DTSTART;TZID=UTC+1:20191105T100000
DTEND;TZID=UTC+1:20191118T210000
DTSTAMP:20260419T214323
CREATED:20191106T114220Z
LAST-MODIFIED:20191106T114220Z
UID:5752-1572948000-1574110800@www.bestiari.cat
SUMMARY:Exposició dels 30 anys dels Diables de la Verneda
DESCRIPTION:La Colla de Diables de la Verneda compleix 30 anys i\, per celebrar-ho\, ha organitzat una exposició fotogràfica que es titula: "30 anys de foc al barri: Diables de la Verneda". La mostra es pot veure del 5 al 18 de novembre a la Sala d'Exposicions La Tercera\, ubicada al Centre Cívic de Sant Martí\, de 10 a 21 h de dimarts a divendres.\n\nA través de l'exposició es pot conèixer la trajectòria de la colla de diables adulta\, creada el 1989. També es pot saber més sobre el naixement de la colla de diables infantil l'any 2017\, les Guspires de Sant Martí\, així com de la libèl·lula Espiadimonis el 2018.\n\n[caption id="attachment_5765" align="alignnone" width="747"] Cartell de la inauguració de l'exposició dels Diables de la Verneda[/caption]\n\n 
URL:https://www.bestiari.cat/esdeveniment/exposicio-dels-30-anys-dels-diables-de-la-verneda/
LOCATION:Carrer Selva de Mar\, 225\, Barcelona\, Barcelona\, 08018\, Espanya
CATEGORIES:Activitats associats,Barcelona Ciutat
ATTACH;FMTTYPE=image/jpeg:https://www.bestiari.cat/wp-content/uploads/2019/11/Espiadimonis.jpg
END:VEVENT
END:VCALENDAR