BEGIN:VCALENDAR
VERSION:2.0
PRODID:-//Agrupació del Bestiari Festiu i Popular de Catalunya - ECPv4.5.3//NONSGML v1.0//EN
CALSCALE:GREGORIAN
METHOD:PUBLISH
X-WR-CALNAME:Agrupació del Bestiari Festiu i Popular de Catalunya
X-ORIGINAL-URL:https://www.bestiari.cat
X-WR-CALDESC:Events for Agrupació del Bestiari Festiu i Popular de Catalunya
BEGIN:VEVENT
DTSTART;TZID=UTC+1:20220423T170000
DTEND;TZID=UTC+1:20220423T200000
DTSTAMP:20260420T061046
CREATED:20220419T083034Z
LAST-MODIFIED:20220419T083034Z
UID:17802-1650733200-1650744000@www.bestiari.cat
SUMMARY:Fabulari a l'Hospitalet de Llobregat
DESCRIPTION:El pròxim dissabte 23 d'abril se celebrarà\, a l'Hospitalet de Llobregat\, una nova edició del Fabulari\, la trobada de gegants\, bèsties i altres elements festius emmarcada dins de les Festes de la Primavera de l'Hospitalet de Llobregat. Durant l'esdeveniment participen totes les entitats de la ciutat\, a més de colles convidades de fora de la població\, tant de Catalunya com de la resta de comunitats autònomes i l'estranger.\n\nL'acte començarà a les 17 h amb la concentració a la plaça de l'Ajuntament de les colles convidades. A continuació tindrà lloc la mostra de balls individuals d'aquestes. Un cop acabada\, es donarà el tret de sortida de la cercavila festiva\, que començarà i acabarà a la plaça de l'Ajuntament. En tornar a la plaça tindrà lloc la ballada conjunta de les bèsties\, on totes a la vegada encendran el seu arsenal pirotècnic per donar el toc final a l'acte.
URL:https://www.bestiari.cat/esdeveniment/fabulari-a-lhospitalet-de-llobregat/
LOCATION:Plaça de l'Ajuntament\, L'Hospitalet de Llobregat\, Barcelona\, 08901\, Espanya
CATEGORIES:Activitats associats,Baix Llobregat i L'Hospitalet
ATTACH;FMTTYPE=image/jpeg:https://www.bestiari.cat/wp-content/uploads/2022/04/01e414dd-fb4e-4b95-a9bc-2525e25ec646.jpg
END:VEVENT
END:VCALENDAR