BEGIN:VCALENDAR
VERSION:2.0
PRODID:-//Agrupació del Bestiari Festiu i Popular de Catalunya - ECPv4.5.3//NONSGML v1.0//EN
CALSCALE:GREGORIAN
METHOD:PUBLISH
X-WR-CALNAME:Agrupació del Bestiari Festiu i Popular de Catalunya
X-ORIGINAL-URL:https://www.bestiari.cat
X-WR-CALDESC:Events for Agrupació del Bestiari Festiu i Popular de Catalunya
BEGIN:VEVENT
DTSTART;TZID=UTC+1:20170603T113000
DTEND;TZID=UTC+1:20170603T133000
DTSTAMP:20260422T083554
CREATED:20170605T055154Z
LAST-MODIFIED:20170605T055237Z
UID:2362-1496489400-1496496600@www.bestiari.cat
SUMMARY:L'Àliga de Tàrrega i el Drac de Figueres a la Festa Catalana\, a l'Avinguda de la Catedral de Barcelona
DESCRIPTION:El Bestiari Festiu i Popular de Catalunya hi és present més que mai a l'edició d'enguany de la Festa Catalana.\n\nDurant tots els dissabtes de maig a novembre\, la Plaça Nova (Avinguda de la Catedral) de Barcelona s'omple de manifestacions festives i culturals catalanes amb l'objectiu de donar-les a conèixer als visitants de la ciutat comtal.\n\nAquest dissabte 3 de juny\, a les 11:30h\, hi participaran  l'Àliga de Tàrrega\, el Drac i gegantó Pep Venura de Figueres\, els gegants Els Veguers de Montblanc\, Aiguabarreig i els gegants de Torroella de Montgrí.\n\nPodeu consultar el programa complet (PDF) en aquest enllaç.\n\n
URL:https://www.bestiari.cat/esdeveniment/festa-catalana-a-lavinguda-de-la-catedral-de-barcelona/
LOCATION:Avinguda de la Catedral\, Barcelona\, Barcelona\, Espanya
CATEGORIES:Altres activitats
ATTACH;FMTTYPE=image/png:https://www.bestiari.cat/wp-content/uploads/2017/05/festacatalana.png
END:VEVENT
END:VCALENDAR