BEGIN:VCALENDAR
VERSION:2.0
PRODID:-//Agrupació del Bestiari Festiu i Popular de Catalunya - ECPv4.5.3//NONSGML v1.0//EN
CALSCALE:GREGORIAN
METHOD:PUBLISH
X-WR-CALNAME:Agrupació del Bestiari Festiu i Popular de Catalunya
X-ORIGINAL-URL:https://www.bestiari.cat
X-WR-CALDESC:Events for Agrupació del Bestiari Festiu i Popular de Catalunya
BEGIN:VEVENT
DTSTART;TZID=UTC+1:20170616T200000
DTEND;TZID=UTC+1:20170617T233000
DTSTAMP:20260419T214323
CREATED:20170610T150608Z
LAST-MODIFIED:20170610T150608Z
UID:2420-1497643200-1497742200@www.bestiari.cat
SUMMARY:Festa dels Diables de Cervera Carranquers
DESCRIPTION:Els Diables de Cervera Carranquers celebren la seva festa els dies 16 i 17 de juny de 2017.\n\nPROGRAMA D'ACTES\n\nDivendres 16 de juny\n\n \t20h Cursa Orientativa Urbana\n \t22h Sopar Popular\n \t23h Concert: Sons de Sobretaula\n\nDissabte 17 de juny\n\n \t11:30h Contacontes "Llegenda de la Tarasca" a càrrec de Rosa Caballol\n \t12h Toc de Vermut\n \t12:30h Vermut elèctric\n \t19h Cercavila\, inici a la Plaça Santa Anna. Amb Sound de Secà\, Bombollers\, Geganters i Grallers de Cervera\, Grallers de Torà\, Geganters de Sant Guim\, Drac Aimeric de la Ribera d'Ondara\, Diables de Cervera "Carranquers" i Colla Infantil\, Drac de Cervera "lo Carranco Bilandó" i Tarasca de Cervera\n \t19:30h Lluïments a l'arribada a la Plaça Major. Toc de Festa i Toc de Foc a càrrec dels Campaners. Lluïments de les colles convidades\n \t20h Ball Parlat\n \t20:45h Lluïments de foc\n \t22h Sopar popular\n \t01h Concert: Ruc'n'Roll. En acabat\, Punxa Discs Gns Berenguer\n
URL:https://www.bestiari.cat/esdeveniment/festa-dels-diables-de-cervera-carranquers/
LOCATION:Cervera\, Espanya
CATEGORIES:Activitats associats
ATTACH;FMTTYPE=image/jpeg:https://www.bestiari.cat/wp-content/uploads/2017/06/02.jpg
END:VEVENT
END:VCALENDAR