BEGIN:VCALENDAR
VERSION:2.0
PRODID:-//Agrupació del Bestiari Festiu i Popular de Catalunya - ECPv4.5.3//NONSGML v1.0//EN
CALSCALE:GREGORIAN
METHOD:PUBLISH
X-WR-CALNAME:Agrupació del Bestiari Festiu i Popular de Catalunya
X-ORIGINAL-URL:https://www.bestiari.cat
X-WR-CALDESC:Events for Agrupació del Bestiari Festiu i Popular de Catalunya
BEGIN:VEVENT
DTSTART;TZID=UTC+1:20220730T173000
DTEND;TZID=UTC+1:20220730T220000
DTSTAMP:20260420T075059
CREATED:20220720T084434Z
LAST-MODIFIED:20220720T084658Z
UID:18928-1659202200-1659218400@www.bestiari.cat
SUMMARY:Festa d'Estiu a la Pobla de Montornès (el Tarragonès)
DESCRIPTION:El pròxim dissabte 30 de juliol hi ha programada a la Pobla de Montornès una gran jornada festiva en la qual les protagonistes seran les bèsties.\n\n \tA dos quarts de sis de la tarda se celebrarà la I Trobada de Bèsties d'Aigua a l'aparcament de l'avinguda Catalunya.\n \tMés tard\, a dos quarts de nou\, tindrà lloc la I Trobada de Bèsties de Foc.\n
URL:https://www.bestiari.cat/esdeveniment/festa-destiu-a-la-pobla-de-montornes-el-tarragones/
LOCATION:Avinguda Catalunya\, La Pobla de Montornès\, Tarragona \, 43761\, Espanya
CATEGORIES:Activitats associats,El Camp-Conca-Priorat
ATTACH;FMTTYPE=image/jpeg:https://www.bestiari.cat/wp-content/uploads/2022/07/294823130_423362159831128_9094026101670624903_n.jpeg
END:VEVENT
END:VCALENDAR