BEGIN:VCALENDAR
VERSION:2.0
PRODID:-//Agrupació del Bestiari Festiu i Popular de Catalunya - ECPv4.5.3//NONSGML v1.0//EN
CALSCALE:GREGORIAN
METHOD:PUBLISH
X-WR-CALNAME:Agrupació del Bestiari Festiu i Popular de Catalunya
X-ORIGINAL-URL:https://www.bestiari.cat
X-WR-CALDESC:Events for Agrupació del Bestiari Festiu i Popular de Catalunya
BEGIN:VEVENT
DTSTART;TZID=UTC+1:20250814T190000
DTEND;TZID=UTC+1:20250816T143000
DTSTAMP:20260419T183507
CREATED:20250812T162828Z
LAST-MODIFIED:20250812T162828Z
UID:27344-1755198000-1755354600@www.bestiari.cat
SUMMARY:Festes de Sant Roc a Gironella
DESCRIPTION:Festes de Sant Roc a Gironella\n\nDes de Gironella del 13 al 19 d'Agost\, celebren les festes de Sant Roc. Enguany\, han preparat un parell de dies molt xulos amb imatgeria:\n\n\n\n- DIJOUS 14 a partir de les 19h l'ESCLATADA\n\n19h - Esclatada familiar amb la imatgeria i la cultura popular!\nPresentació de la nova gegantona Raimunda\, acompanyada dels @entrompats i els Grallers de @gegantsdegironella.\n\nSortida: Espai Santa Eulàlia – Plaça de la Vila\n\n20.30h - Sopar popular amb opció vegana-vegetariana - Plaça de la Vila\n\n22.00h - L’Esclatada nocturna – Seguici d’imatgeria\, música i tradició\n\nSortida: Església Nova de Santa Eulàlia – Plaça de l’Església\n\n00.00h - Espectacle final amb castell de focs amb @piroestalella. - Plaça de l’Església\n\n00:30 h - Nit de festa amb @broumusical (versions) i DJ @otcaaat! - Plaça de la Vila\n\n\n- DISSABTE 16 D'AGOST\n\n10.00h - Seguici de Sant Roc amb tota la imatgeria local - Davant de la Fundació Sant Roc\n\n12.00h - Diada de Sant Roc amb les ballades de lluïment de tota la imatgeria\n\n\n
URL:https://www.bestiari.cat/esdeveniment/festes-de-sant-roc-a-gironella/
LOCATION:080924\, Espanya
CATEGORIES:Activitats associats,Comarques Centrals,Territorials
END:VEVENT
END:VCALENDAR