BEGIN:VCALENDAR
VERSION:2.0
PRODID:-//Agrupació del Bestiari Festiu i Popular de Catalunya - ECPv4.5.3//NONSGML v1.0//EN
CALSCALE:GREGORIAN
METHOD:PUBLISH
X-WR-CALNAME:Agrupació del Bestiari Festiu i Popular de Catalunya
X-ORIGINAL-URL:https://www.bestiari.cat
X-WR-CALDESC:Events for Agrupació del Bestiari Festiu i Popular de Catalunya
BEGIN:VEVENT
DTSTART;TZID=UTC+1:20200118T113000
DTEND;TZID=UTC+1:20200118T133000
DTSTAMP:20260420T002816
CREATED:20200109T154133Z
LAST-MODIFIED:20200109T154133Z
UID:6759-1579347000-1579354200@www.bestiari.cat
SUMMARY:Fest'Hivern 2020 de Viladecans
DESCRIPTION:(Foto: El Mamut i la Mamuteta el passat 14 de setembre\, durant la Cercavila del Mocador / Font: Facebook Mamut de Viladecans)\n\nEl pròxim dissabte dia 18 de gener\, a partir de les 11.30 hores\, tindrà lloc la Cercavila de Festa Major de Viladecans (Fest'Hivern2020) que comptarà amb la participació del Mamut\, la Mamuteta\, el Cadefoc\, els castellers\, els grallers\, els gegants i altres entitats del municipi. El recorregut sortirà des de la plaça de la Constitució i arribarà fins a la plaça de la Vila. Tota la Cercavila estarà acompanyada musicalment per la Bandarra Street Orkestra.\n\n[caption id="attachment_6760" align="aligncenter" width="714"] Cartell del Fest'Hivern 2020 de Viladecans[/caption]
URL:https://www.bestiari.cat/esdeveniment/festhivern-2020-de-viladecans/
ATTACH;FMTTYPE=image/jpeg:https://www.bestiari.cat/wp-content/uploads/2020/01/70198172_2475462909197292_1297558471079624704_n.jpg
END:VEVENT
END:VCALENDAR