BEGIN:VCALENDAR
VERSION:2.0
PRODID:-//Agrupació del Bestiari Festiu i Popular de Catalunya - ECPv4.5.3//NONSGML v1.0//EN
CALSCALE:GREGORIAN
METHOD:PUBLISH
X-WR-CALNAME:Agrupació del Bestiari Festiu i Popular de Catalunya
X-ORIGINAL-URL:https://www.bestiari.cat
X-WR-CALDESC:Events for Agrupació del Bestiari Festiu i Popular de Catalunya
BEGIN:VEVENT
DTSTART;TZID=UTC+1:20250814T190000
DTEND;TZID=UTC+1:20250821T233000
DTSTAMP:20260419T195942
CREATED:20250811T163655Z
LAST-MODIFIED:20250811T163935Z
UID:27322-1755198000-1755819000@www.bestiari.cat
SUMMARY:FM Gràcia 2025
DESCRIPTION:FM Gràcia 2025\n\nArriba la Festa Major del Barri de Gràcia\, a Barcelona\, i amb ella un munt d'activitats relacionades amb el Bestiari Festiu! AQUÍ podeu consultar el programa complet\, però a continuació us deixem les activitats més bestials:\n\n \tDijous 14 d’agost | 19h - Pl. De la Vila\n\nBall de l'Àliga\n\n\n\n \n\n \n\n \n\n \n\n \n\n \n\n \tDivendres 15 d'agost | 8.30h\n\nMatinades de Foc - amb Trabucaires de Gràcia\, Escuats de la Malèfica del Coll\, Aro i Loki\, Drac  de Gràcia\, La Diabòlica de Gràcia\, La Malèfica  del Coll\, Gaudiamus\, Malsons de la Vella\, La Vella de Gràcia i Atzeries de la Vella.\n\nItinerari: Plaça de la Revolució\, Ramón y Cajal\, Torrijos\, plaça de la Virreina\, Or\, Torrent de l’Olla\, Jaén\, Leopoldo Alas\, Virtut\, plaça del Sol\, Xiquets de Valls\, Mariana Pineda\, plaça de la Vila. \n\n \tDivendres 15 d'agost | 10h\n\nSeguici d'Autoritats - amb l’acompanyament  de les colles de cultura popular\, des de la plaça de la Vila fins a la parròquia de Santa Maria de Jesús\, cap a la missa de Festa Major.\n\nItinerari: plaça de la Vila\, Goya\, Gran de Gràcia\, Parròquia de Santa Maria de Jesús.\n\n \tDivendres 15 d'agost | 12h\n\nCercavila de Pujada + Matí de Festa Major \n\nCercavila de pujada des del carrer Gran de Gràcia\, davant del Pla de Salmerón\, fins a la plaça de la Vila. Inici amb colles de foc i continuació  amb colles de dia.\n\nMatí de Festa Major a la plaça de la Vila\,  amb Escuats de la Malèfica del Coll\, Aro i Loki\, Drac de Gràcia\, La Diabòlica de Gràcia\, La Malèfica del Coll\, Gaudiamus\, Malsons de la Vella\,  La Vella de Gràcia\, Atzeries de la Vella\, Trabucaires de Gràcia\, Àliga\, Lleó i Bou de Gràcia\, Geganters de Gràcia\, Capgrossos de Gràcia\, Gegantó Pepitu Campanar\, Gegantons Torradet i Gresca\, Bastoners de Gràcia i Castellers de la Vila  de Gràcia.\n\n \tDissabte 16 d'agost | 10.30h\n\nCercavila de Sant Roc i Homenatge a Sant Roc + Tornada en Cercavila \n\nCercavila de Sant Roc amb Trabucaires de Gràcia\, Àliga\, Lleó i Bou de Gràcia\, Geganters  de Gràcia\, Capgrossos de Gràcia\, Gegantó Pepitu Campanar\, Gegantons Torradet i Gresca\, Gegantó Torres\, Bastoners de Gràcia i Castellers  de la Vila de Gràcia. Itinerari: plaça de la Vila\, Francisco Giner\, Bonavista\, Perill\, Venus\, Llibertat i retorn.\n\nHomenatge a Sant Roc\, a la capelleta del sant situada a la cantonada dels carrers de la Llibertat i la Fraternitat. Pilar d’ofrena floral i ball de les colles de cultura popular participants.\n\nTornada en cercavila amb tots els participants del matí.\n\n \tDijous 21 d'agost | 19h\n\nCorrefoc Infantil - amb Escuats de la Malèfica  del Coll\, Diables Infantils l’Espetec d’Agramunt\,  Aro i Loki\, Els Dragonets d’Agramunt\, Malsons  de la Vella i Diablets de Cua de Cornellà.\n\nItinerari: Gran de Gràcia amb Travessera  de Gràcia\, Gran de Gràcia\, Ros de Olano\, Terol\, Torrijos\, Travessera de Gràcia\, Torrent de l’Olla\, Diluvi i plaça de la Vila. \n\n \tDijous 21 d'agost | 21.30h\n\nCorrefoc Adult - amb Drac  de Gràcia\, Drac d’Olesa de Bonesvalls\, La Diabòlica de Gràcia\, Diables de Sitges Colla Jove\, La Malèfica del Coll\, Diables l’Espetec d’Agramunt\, Gaudiamus\, Voliak d’Oliana\, La Vella de Gràcia\, Diables  i diablesses de Sarrià\, Atzeries de la Vella i Drac Brumot de Gavà.\n\nItinerari: lluïment i inici a la plaça de la Vila\,  Sant Domènec\, Sant Pere Màrtir\, Pere Serafí\,  Ros de Olano\, Torrent de l’Olla\, Or\, Torrijos\, Travessera de Gràcia\, Torrent de l’Olla\, Diluvi  i plaça de la Vila. \n\n\n\n \n\n \n\n \n\n \n\n \n\n \n\n \n\n \n\n \n\nMolt Bona Festa Major!
URL:https://www.bestiari.cat/esdeveniment/fm-gracia-2025/
LOCATION:08012 \, Espanya
CATEGORIES:Activitats associats,Barcelona Ciutat,Territorials
END:VEVENT
END:VCALENDAR