BEGIN:VCALENDAR
VERSION:2.0
PRODID:-//Agrupació del Bestiari Festiu i Popular de Catalunya - ECPv4.5.3//NONSGML v1.0//EN
CALSCALE:GREGORIAN
METHOD:PUBLISH
X-WR-CALNAME:Agrupació del Bestiari Festiu i Popular de Catalunya
X-ORIGINAL-URL:https://www.bestiari.cat
X-WR-CALDESC:Events for Agrupació del Bestiari Festiu i Popular de Catalunya
BEGIN:VEVENT
DTSTART;TZID=UTC+1:20250920T100000
DTEND;TZID=UTC+1:20250929T100000
DTSTAMP:20260419T200143
CREATED:20250914T161326Z
LAST-MODIFIED:20250919T161724Z
UID:27572-1758362400-1759140000@www.bestiari.cat
SUMMARY:FM Molins de Rei 2025 amb el Camell
DESCRIPTION:FM Molins de Rei 2025 amb el Camell\n\nLa Festa Major de Sant Miquel 2025 ja truca a la porta i du amb ella els actes camellaires més esperats! Un any més\, la bèstia torna a sortir al carrer per omplir Molins de Rei de pólvora\, música i emoció. Tant petits com grans podreu gaudir moments únics carregats de disbauxa.\n\n \tDissabte 20 de setembre | 10h \n\nDesperta el Camell\n\n \tDissabte 27 de setembre \n\nDona el Xumet al Camell - 11h\n\nCorrecuita Petit Camell - 17h - Inici plaça de la Vila\n\nCorrecuita del Camell i Sarau d'Espurnes - 20.30h - Inici a la plaça de la Vila\n\n \t19.30h Concentració de barrets i mocador\n \t20.30h Inici del Correcuita\n\n\n \t Dilluns 29 de setembre | 6h \n\nMatines del Camell - Inici plaça de la Vila\n\nTots els actes de la Festa Major i del Camell són lliures d’agressions i actituds masclistes o discriminatòries. Per aquest motiu\, mantenen el Punt Lila durant les Matines i el Correcuita gràcies a l’@ajuntamentmolinsderei i @culturamolins.\n\nConsulteu tota la informació dels actes i activitats a www.amicsdelcamell.cat i Actes camellaires Festa Major de Sant Miquel 2025\n\nBona Festa Major!\n\nTotes les fotografies utilitzades són d’Héctor Hernández (@hctrphoto).\n\n   \n\n 
URL:https://www.bestiari.cat/esdeveniment/fm-molins-de-rei-2025-amb-el-camell/
LOCATION:Molins de Rei \, Barcelona \, 08750\, Espanya
CATEGORIES:Activitats associats,Baix Llobregat i L'Hospitalet,Territorials
END:VEVENT
END:VCALENDAR