BEGIN:VCALENDAR
VERSION:2.0
PRODID:-//Agrupació del Bestiari Festiu i Popular de Catalunya - ECPv4.5.3//NONSGML v1.0//EN
CALSCALE:GREGORIAN
METHOD:PUBLISH
X-WR-CALNAME:Agrupació del Bestiari Festiu i Popular de Catalunya
X-ORIGINAL-URL:https://www.bestiari.cat
X-WR-CALDESC:Events for Agrupació del Bestiari Festiu i Popular de Catalunya
BEGIN:VEVENT
DTSTART;VALUE=DATE:20180929
DTEND;VALUE=DATE:20180929
DTSTAMP:20260419T232032
CREATED:20180927T091014Z
LAST-MODIFIED:20181003T103702Z
UID:4250-1538179200-1538265599@www.bestiari.cat
SUMMARY:Foedus
DESCRIPTION:Un any més se celebra a Sant Quintí de Mediona l’espectacle Foedus\n\nEl proper dissabte 29 de setembre tindrà lloc la 3a edició de l'espectacle FOEDUS\, organitzat per l’associació del Ferafoc de Sant Quintí de Mediona. Aquest esdeveniment va néixer a l’any 2016 a partir de la celebració del 5é aniversari d'aquesta bèstia de foc. Enguany\, hi haurà fins un total de 5 colles de bestiari convidades d'arreu del país (Drac Baluk Astharot de Terrassa; Drac de Foc El Cabrot del Vendrell; Drac de Gelida; Drac de Santa Margarida de Riera de Gaià; Godra de Caldes de Montbui). A més\, es comptarà\, com en edicions anteriors\, amb la participació de Taboo percussió de Vilanova i la Geltrú i del grup de dansa de Sant Quintí de Mediona.\n\nL'entitat del Ferafoc fa uns dies que va presentar el nou ambaixador del Foedus per les xarxes socials. En la segona edició\, l'espectacle va comptar amb l'apadrinament de la cuinera Carme Ruscalleda Serra i en aquesta ocasió s'ha volgut sumar al projecte i deixar la seva empremta l'actor Vilanoví Toni Albà\, conegut com còmic televisiu i director teatral. Els actes del FOEDUS començaran a les 8 del vespre\, amb la plantada de bèsties (amb les 5 bèsties convidades i el mateix Ferafoc) a la plaça Enric Prat de la Riba. A les 10 de la nit començarà l'espectacle FOEDUS a la plaça de l'Església. L'espectacle que recrea l'eterna lluita entre les forces del mal i les del bé\, entre el malvat Ventus i el Comte Guillem\, transformat en el Ferafoc. Lligat a la rondalla del Ferafoc\, combina diferents elements principals\, com el teatre\, la dansa\, la llum\, el foc i la música. Seguidament\, es donarà inici al correfoc\, que seguirà el següent recorregut: Pl. del Portal\, C/ General Weyler\, C/ Sant Antoni\, C/ Joan Sardà i final a la plaça del Portal\, amb encesa conjunta.
URL:https://www.bestiari.cat/esdeveniment/foedus-2/
LOCATION:Plaça Enric Prat de la Riba\, Sant Quintí de Mediona\, Espanya
CATEGORIES:Activitats associats,Penedès-Garraf
ATTACH;FMTTYPE=image/png:https://www.bestiari.cat/wp-content/uploads/2018/10/Cartell_Foedus.png
END:VEVENT
END:VCALENDAR